BEGIN:VCALENDAR
VERSION:2.0
PRODID:-//Thirste - ECPv6.15.20//NONSGML v1.0//EN
CALSCALE:GREGORIAN
METHOD:PUBLISH
X-ORIGINAL-URL:https://thirste.com
X-WR-CALDESC:Events for Thirste
REFRESH-INTERVAL;VALUE=DURATION:PT1H
X-Robots-Tag:noindex
X-PUBLISHED-TTL:PT1H
BEGIN:VTIMEZONE
TZID:America/Anchorage
BEGIN:DAYLIGHT
TZOFFSETFROM:-0900
TZOFFSETTO:-0800
TZNAME:AKDT
DTSTART:20220313T110000
END:DAYLIGHT
BEGIN:STANDARD
TZOFFSETFROM:-0800
TZOFFSETTO:-0900
TZNAME:AKST
DTSTART:20221106T100000
END:STANDARD
BEGIN:DAYLIGHT
TZOFFSETFROM:-0900
TZOFFSETTO:-0800
TZNAME:AKDT
DTSTART:20230312T110000
END:DAYLIGHT
BEGIN:STANDARD
TZOFFSETFROM:-0800
TZOFFSETTO:-0900
TZNAME:AKST
DTSTART:20231105T100000
END:STANDARD
BEGIN:DAYLIGHT
TZOFFSETFROM:-0900
TZOFFSETTO:-0800
TZNAME:AKDT
DTSTART:20240310T110000
END:DAYLIGHT
BEGIN:STANDARD
TZOFFSETFROM:-0800
TZOFFSETTO:-0900
TZNAME:AKST
DTSTART:20241103T100000
END:STANDARD
END:VTIMEZONE
BEGIN:VEVENT
DTSTART;TZID=America/Anchorage:20230811T080000
DTEND;TZID=America/Anchorage:20230812T170000
DTSTAMP:20260422T185816
CREATED:20230607T171525Z
LAST-MODIFIED:20230607T193559Z
UID:2275-1691740800-1691859600@thirste.com
SUMMARY:Palmdale Tequila & Taco Music Festival
DESCRIPTION:Get ready to embrace the vibrant spirit of Palmdale for California’s Largest Tequila & Taco Music Festival! Join us for two exhilarating days filled with sun\, fun\, and the perfect blend of top-notch tequila sampling and delectable gourmet street tacos. Prepare to be enthralled by live music\, indulge in refreshing margaritas\, savor craft beer\, explore a diverse range of vendors\, and make unforgettable memories! \n\n\n\n\n\n\n\nPalmdale’s picturesque backdrop sets the stage for an extraordinary celebration where you’ll have the opportunity to sample an impressive selection of top-shelf tequilas. Delve into the art of tequila appreciation as you savor each sip\, discovering the rich flavors\, aromas\, and complexities that make this renowned spirit so revered. With a carefully curated selection of tequilas\, this festival promises to be a haven for tequila enthusiasts and novices alike. \n\n\n\nAs you embark on your tequila adventure\, prepare your taste buds for a taco extravaganza like no other. Ventura’s finest street taco vendors will showcase their culinary prowess\, serving up a mouthwatering array of gourmet tacos. From traditional favorites to innovative and fusion creations\, these expertly crafted tacos will take your palate on a tantalizing journey through the diverse flavors of Mexican cuisine. \n\n\n\nThe festival atmosphere will come alive with the sounds of live music\, filling the air with infectious energy and creating an unforgettable ambiance. Talented musicians will grace the stage\, captivating audiences with their electrifying performances. Lose yourself in the rhythms\, let your body sway\, and revel in the joyous atmosphere that only live music can bring. \n\n\n\nNo tequila and taco festival would be complete without refreshing margaritas and craft beer. Sip on perfectly blended margaritas and explore a variety of craft beers from local breweries\, each offering its own unique flavors and characteristics. Take your time to savor these delightful libations and discover new favorites that perfectly complement the culinary delights of the festival. \n\n\n\nIn between sips and bites\, take a moment to explore the vibrant vendor area. From artisanal crafts to unique products\, there will be plenty to pique your interest. Whether you’re in search of a special keepsake or simply want to soak up the festival’s lively atmosphere\, the vendors will offer a diverse range of offerings that cater to every taste. \n\n\n\nWith your ticket in hand\, you’ll have access to an array of food vendors\, craft beer\, margarita booths\, shopping opportunities\, and live music performances. Get ready to immerse yourself in the sun-drenched festivities\, where the fusion of tequila\, tacos\, music\, and Palmdale’s energetic spirit will create a truly unforgettable experience. \n\n\n\nJoin us at California’s Largest Tequila & Taco Music Festival in Palmdale and prepare to indulge in the best that the region has to offer. This two-day extravaganza promises to be a feast for the senses\, leaving you with cherished memories and a renewed appreciation for the incredible flavors and cultural richness of tequila and tacos.
URL:https://thirste.com/event/palmdale-tequila-taco-music-festival/
LOCATION:Palmdale Amphitheater\, 2723 Rancho Vista Blvd\, Palmdale\, California\, 93551\, United States
CATEGORIES:Tequila
ATTACH;FMTTYPE=image/jpeg:https://thirste.com/wp-content/uploads/2023/06/TNTMusic_001.jpg
END:VEVENT
END:VCALENDAR