BEGIN:VCALENDAR
VERSION:2.0
PRODID:-//Thirste - ECPv6.15.20//NONSGML v1.0//EN
CALSCALE:GREGORIAN
METHOD:PUBLISH
X-WR-CALNAME:Thirste
X-ORIGINAL-URL:https://thirste.com
X-WR-CALDESC:Events for Thirste
REFRESH-INTERVAL;VALUE=DURATION:PT1H
X-Robots-Tag:noindex
X-PUBLISHED-TTL:PT1H
BEGIN:VTIMEZONE
TZID:America/Anchorage
BEGIN:DAYLIGHT
TZOFFSETFROM:-0900
TZOFFSETTO:-0800
TZNAME:AKDT
DTSTART:20240310T110000
END:DAYLIGHT
BEGIN:STANDARD
TZOFFSETFROM:-0800
TZOFFSETTO:-0900
TZNAME:AKST
DTSTART:20241103T100000
END:STANDARD
BEGIN:DAYLIGHT
TZOFFSETFROM:-0900
TZOFFSETTO:-0800
TZNAME:AKDT
DTSTART:20250309T110000
END:DAYLIGHT
BEGIN:STANDARD
TZOFFSETFROM:-0800
TZOFFSETTO:-0900
TZNAME:AKST
DTSTART:20251102T100000
END:STANDARD
BEGIN:DAYLIGHT
TZOFFSETFROM:-0900
TZOFFSETTO:-0800
TZNAME:AKDT
DTSTART:20260308T110000
END:DAYLIGHT
BEGIN:STANDARD
TZOFFSETFROM:-0800
TZOFFSETTO:-0900
TZNAME:AKST
DTSTART:20261101T100000
END:STANDARD
END:VTIMEZONE
BEGIN:VEVENT
DTSTART;TZID=America/Anchorage:20250517T000000
DTEND;TZID=America/Anchorage:20250517T235959
DTSTAMP:20260422T073936
CREATED:20250308T213512Z
LAST-MODIFIED:20250308T213513Z
UID:3206-1747440000-1747526399@thirste.com
SUMMARY:Tacos and Tequila Dallas - Fort Worth
DESCRIPTION:2024\n\n\n\n\n\nThe Tacos and Tequila Festival in Dallas-Fort Worth is a vibrant celebration of two of life’s greatest pleasures – delectable tacos and the smooth\, spirited embrace of tequila. Along with legends of hip hop. It’s an event that promises to ignite your taste buds and transport your senses to the heart of Mexico\, all while nestled in the heart of the Dallas-Fort Worth area. \n\n\n\n\n\n\n\nPicture this: a lively gathering where the tantalizing aroma of sizzling meats and zesty salsas wafts through the air\, and the clinking of glasses filled with golden tequila resounds in harmony with laughter and merriment. The Tacos and Tequila Festival is where culinary artistry meets the warmth of hospitality\, creating an unforgettable experience for all who attend. \n\n\n\nAt this festival\, you’ll find yourself on a culinary journey\, exploring the multifaceted world of tacos. Traditional or with a modern twist\, from mouthwatering carne asada to vegan delights\, there’s a taco to suit every palate. And\, of course\, to complement these flavorful bites\, you’ll encounter a selection of premium tequilas and expertly crafted cocktails that elevate your tasting adventure. \n\n\n\nIt’s not just about the food and drinks; it’s about the atmosphere. The Tacos and Tequila Festival in Dallas-Fort Worth is a gathering of kindred spirits\, a place where you can mingle with fellow food and drink enthusiasts\, exchange stories\, and create new memories.
URL:https://thirste.com/event/tacos-and-tequila-dallas-fort-worth/
LOCATION:Panther Island Pavilion\, 395 Purcey St\, Fort Worth\, Texas\, 76102
CATEGORIES:Tequila
ATTACH;FMTTYPE=image/jpeg:https://thirste.com/wp-content/uploads/2023/10/dallas-taco-tequila-festival-fort-worth.jpg
END:VEVENT
END:VCALENDAR