BEGIN:VCALENDAR
VERSION:2.0
PRODID:-//Thirste - ECPv6.15.20//NONSGML v1.0//EN
CALSCALE:GREGORIAN
METHOD:PUBLISH
X-ORIGINAL-URL:https://thirste.com
X-WR-CALDESC:Events for Thirste
REFRESH-INTERVAL;VALUE=DURATION:PT1H
X-Robots-Tag:noindex
X-PUBLISHED-TTL:PT1H
BEGIN:VTIMEZONE
TZID:America/Anchorage
BEGIN:DAYLIGHT
TZOFFSETFROM:-0900
TZOFFSETTO:-0800
TZNAME:AKDT
DTSTART:20240310T110000
END:DAYLIGHT
BEGIN:STANDARD
TZOFFSETFROM:-0800
TZOFFSETTO:-0900
TZNAME:AKST
DTSTART:20241103T100000
END:STANDARD
BEGIN:DAYLIGHT
TZOFFSETFROM:-0900
TZOFFSETTO:-0800
TZNAME:AKDT
DTSTART:20250309T110000
END:DAYLIGHT
BEGIN:STANDARD
TZOFFSETFROM:-0800
TZOFFSETTO:-0900
TZNAME:AKST
DTSTART:20251102T100000
END:STANDARD
BEGIN:DAYLIGHT
TZOFFSETFROM:-0900
TZOFFSETTO:-0800
TZNAME:AKDT
DTSTART:20260308T110000
END:DAYLIGHT
BEGIN:STANDARD
TZOFFSETFROM:-0800
TZOFFSETTO:-0900
TZNAME:AKST
DTSTART:20261101T100000
END:STANDARD
END:VTIMEZONE
BEGIN:VEVENT
DTSTART;TZID=America/Anchorage:20250620T000000
DTEND;TZID=America/Anchorage:20250622T235959
DTSTAMP:20260421T204552
CREATED:20250415T214034Z
LAST-MODIFIED:20250415T214034Z
UID:3820-1750377600-1750636799@thirste.com
SUMMARY:Food and Wine Classic Aspen
DESCRIPTION:Indulge in a captivating weekend filled with exquisite epicurean delights at the FOOD & WINE Classic in Aspen! This premier culinary event has stood as an essential destination for enthusiasts seeking the epitome of gastronomic excellence. \n\n\n\n\n\n\n\nImmerse yourself in three extraordinary days that promise a symphony of flavors\, as world-class chefs and beverage experts take center stage. The itinerary is a carefully crafted tapestry of culinary adventures\, featuring immersive cooking demonstrations that unveil the secrets behind signature dishes. Explore the nuances of wine and spirits through tastings that transport you to vineyards and distilleries worldwide. Engage in thought-provoking panel discussions led by culinary luminaries\, delving into the latest trends and innovations in the ever-evolving world of food and wine. \n\n\n\nThe FOOD & WINE Classic in Aspen is not merely an event; it’s an iconic celebration of culinary mastery. Picture yourself amidst the stunning backdrop of Aspen\, surrounded by like-minded aficionados eager to savor every moment. Whether you’re a seasoned epicurean or a curious newcomer to the world of fine dining\, this weekend promises an unforgettable journey into the heart of gastronomic excellence.
URL:https://thirste.com/event/food-and-wine-classic-aspen/
LOCATION:Wagner Park\, 350 E Durant Ave\, Aspen\, Colorado\, 81611
CATEGORIES:Wine
ATTACH;FMTTYPE=image/jpeg:https://thirste.com/wp-content/uploads/2024/03/fwc-logo.jpg
END:VEVENT
BEGIN:VEVENT
DTSTART;TZID=America/Anchorage:20250621T000000
DTEND;TZID=America/Anchorage:20250621T235959
DTSTAMP:20260421T204552
CREATED:20250415T214701Z
LAST-MODIFIED:20250415T214702Z
UID:2004-1750464000-1750550399@thirste.com
SUMMARY:Taste of Sonoma
DESCRIPTION:  \n\n\n\n\n\n\n\n2025\n\n\n\n\n\nThe Taste of Sonoma features wines from 100+ wineries\, complimentary food trucks\, and themed lounges. The lineup will also include a walk-around wine tasting\, guided wine seminars\, and garden tours. \n\n\n\n\n\n\n\n\n\n\n\nTaste of Sonoma is one of Sonoma County’s most highly anticipated events of the year. With access to more than 60 wine varietals and 19 unique growing areas\, This event showcases Sonoma County’s most renowned vintners and the bounty that Sonoma County has to offer in one immersive day. \n\n\n\nExplore Sonoma County wineries by region in the specially designated Grand Tasting at the walk-around tasting. Upgrade to VIP admission tickets for special access to VIP Club Reserve\, where winemakers and owners of Sonoma County’s iconic wineries will pour limited production\, reserve\, and award-winning wines.
URL:https://thirste.com/event/taste-of-sonoma/
LOCATION:Kendall-Jackson Wine Estate\, 5007 Fulton Road\, Fulton\, California\, 95439\, United States
CATEGORIES:Wine
ATTACH;FMTTYPE=image/jpeg:https://thirste.com/wp-content/uploads/2023/03/Taste-of-Sonoma-Logo.jpg
END:VEVENT
BEGIN:VEVENT
DTSTART;TZID=America/Anchorage:20250621T130000
DTEND;TZID=America/Anchorage:20250621T210000
DTSTAMP:20260421T204552
CREATED:20250129T135659Z
LAST-MODIFIED:20250129T135659Z
UID:4759-1750510800-1750539600@thirste.com
SUMMARY:Tequila Fest Dallas
DESCRIPTION:Get ready for an unforgettable celebration of tequila\, food\, and music! Tequila Fest Dallas is bringing together tequila lovers\, foodies\, and music enthusiasts for a vibrant festival showcasing the rich flavors of tequila and gourmet street cuisine. Whether you’re a tequila connoisseur or just looking for a fun event to experience something new\, this festival is the place to be! \n\n\n\n\n\nAt Tequila Fest Dallas\, you’ll have the chance to explore over 15 tequila brands\, each offering a unique taste of this iconic Mexican spirit. From smooth\, aged añejos to bold and vibrant blancos\, there’s something for every palate. Expert mixologists will be on hand\, crafting an array of delicious tequila cocktails\, including the festival’s must-try drink—a tequila cocktail served in a whole pineapple! 🍍 \n\n\n\n\n\n\n\n\n\n\n\n\n\n\n\n\n\n\n\n\n\nOf course\, tequila is best enjoyed with incredible food\, and this festival is all about pairing top-tier tequila with gourmet street cuisine. With a lineup of food vendors and trucks\, expect bold flavors\, creative dishes\, and authentic bites that perfectly complement your favorite tequila drinks. \n\n\n\nBeyond the drinks and food\, Tequila Fest Dallas is a full-on cultural celebration! Live music\, entertainment\, and vibrant festivities will create an electric atmosphere where guests can dance\, mingle\, and immerse themselves in the energy of the event. With thousands of attendees expected\, it’s the perfect opportunity to connect with fellow tequila enthusiasts and enjoy an experience like no other. \n\n\n\nWhat to Expect:\n\n\n\n✔ 15+ tequila brands offering tastings and signature cocktails✔ Food vendors and food trucks serving gourmet street cuisine✔ Expert mixologists crafting specialty tequila drinks✔ Live music and entertainment to keep the party going✔ A festive\, high-energy atmosphere celebrating tequila and culture \n\n\n\nWhether you’re a longtime tequila aficionado or simply looking for an exciting event in Dallas\, Tequila Fest Dallas is an absolute must-attend. Come sip\, savor\, and celebrate the best of tequila while indulging in amazing food and enjoying great music.
URL:https://thirste.com/event/tequila-fest-dallas/
LOCATION:Dallas City Hall\, 1500 Marilla Street\, Dallas\, Texas\, 75201
CATEGORIES:Tequila
ATTACH;FMTTYPE=image/webp:https://thirste.com/wp-content/uploads/2025/01/tequila_fest_dallas.webp
END:VEVENT
END:VCALENDAR