BEGIN:VCALENDAR
VERSION:2.0
PRODID:-//Thirste - ECPv6.15.20//NONSGML v1.0//EN
CALSCALE:GREGORIAN
METHOD:PUBLISH
X-ORIGINAL-URL:https://thirste.com
X-WR-CALDESC:Events for Thirste
REFRESH-INTERVAL;VALUE=DURATION:PT1H
X-Robots-Tag:noindex
X-PUBLISHED-TTL:PT1H
BEGIN:VTIMEZONE
TZID:America/Anchorage
BEGIN:DAYLIGHT
TZOFFSETFROM:-0900
TZOFFSETTO:-0800
TZNAME:AKDT
DTSTART:20240310T110000
END:DAYLIGHT
BEGIN:STANDARD
TZOFFSETFROM:-0800
TZOFFSETTO:-0900
TZNAME:AKST
DTSTART:20241103T100000
END:STANDARD
BEGIN:DAYLIGHT
TZOFFSETFROM:-0900
TZOFFSETTO:-0800
TZNAME:AKDT
DTSTART:20250309T110000
END:DAYLIGHT
BEGIN:STANDARD
TZOFFSETFROM:-0800
TZOFFSETTO:-0900
TZNAME:AKST
DTSTART:20251102T100000
END:STANDARD
BEGIN:DAYLIGHT
TZOFFSETFROM:-0900
TZOFFSETTO:-0800
TZNAME:AKDT
DTSTART:20260308T110000
END:DAYLIGHT
BEGIN:STANDARD
TZOFFSETFROM:-0800
TZOFFSETTO:-0900
TZNAME:AKST
DTSTART:20261101T100000
END:STANDARD
END:VTIMEZONE
BEGIN:VEVENT
DTSTART;TZID=America/Anchorage:20250712T180000
DTEND;TZID=America/Anchorage:20250712T210000
DTSTAMP:20260423T013113
CREATED:20250415T215008Z
LAST-MODIFIED:20250415T215008Z
UID:2018-1752343200-1752354000@thirste.com
SUMMARY:Memphis Summer Cocktail Festival
DESCRIPTION:2025\n\n\n\n\n\nAt the fifth annual Memphis Summer cocktail Festival in July\, Memphis will get hot on the dance floor and cool off with summer-inspired beverages. This event brings together area eateries\, bars\, and residents in a social setting that benefits Volunteer Memphis. \n\n\n\nThere are 30+ spirits on the Memphis Summer Cocktail Fest menu\, many of which are delicious summer-inspired drinks. Tickets come with 12 tiny cocktails\, and guests can also buy wonderful cuisine from nearby food trucks\, It’s a 21+ event only.
URL:https://thirste.com/event/memphis-summer-cocktail-festival/
LOCATION:The Kent\, 61 Keel Ave\, Memphis\, Tennessee\, 38107\, United States
CATEGORIES:Cocktail
ATTACH;FMTTYPE=image/png:https://thirste.com/wp-content/uploads/2023/04/Memphissummercocktaillogo.png
END:VEVENT
END:VCALENDAR