BEGIN:VCALENDAR
VERSION:2.0
PRODID:-//Thirste - ECPv6.15.20//NONSGML v1.0//EN
CALSCALE:GREGORIAN
METHOD:PUBLISH
X-ORIGINAL-URL:https://thirste.com
X-WR-CALDESC:Events for Thirste
REFRESH-INTERVAL;VALUE=DURATION:PT1H
X-Robots-Tag:noindex
X-PUBLISHED-TTL:PT1H
BEGIN:VTIMEZONE
TZID:America/Anchorage
BEGIN:DAYLIGHT
TZOFFSETFROM:-0900
TZOFFSETTO:-0800
TZNAME:AKDT
DTSTART:20240310T110000
END:DAYLIGHT
BEGIN:STANDARD
TZOFFSETFROM:-0800
TZOFFSETTO:-0900
TZNAME:AKST
DTSTART:20241103T100000
END:STANDARD
BEGIN:DAYLIGHT
TZOFFSETFROM:-0900
TZOFFSETTO:-0800
TZNAME:AKDT
DTSTART:20250309T110000
END:DAYLIGHT
BEGIN:STANDARD
TZOFFSETFROM:-0800
TZOFFSETTO:-0900
TZNAME:AKST
DTSTART:20251102T100000
END:STANDARD
BEGIN:DAYLIGHT
TZOFFSETFROM:-0900
TZOFFSETTO:-0800
TZNAME:AKDT
DTSTART:20260308T110000
END:DAYLIGHT
BEGIN:STANDARD
TZOFFSETFROM:-0800
TZOFFSETTO:-0900
TZNAME:AKST
DTSTART:20261101T100000
END:STANDARD
END:VTIMEZONE
BEGIN:VEVENT
DTSTART;TZID=America/Anchorage:20250719T000000
DTEND;TZID=America/Anchorage:20250720T235959
DTSTAMP:20260423T043924
CREATED:20241007T162441Z
LAST-MODIFIED:20241007T162442Z
UID:4212-1752883200-1753055999@thirste.com
SUMMARY:CA Wine Festival - Santa Barbara
DESCRIPTION:Sip\, Savor\, and Soak in the Coastal Beauty\n\n\n\n2025\n\n\n\n\n\nThe California Wine Festival – Santa Barbara is more than just a wine event; it’s a celebration of the Golden State’s rich winemaking tradition set against the breathtaking backdrop of one of California’s most picturesque coastal towns. For wine enthusiasts\, casual tasters\, and food lovers alike\, this annual festival offers a memorable experience where you can sip on fine wines\, savor gourmet food\, and enjoy the beauty of Santa Barbara’s sun-soaked shores. \n\n\n\n\n\n\n\nParadise by the Pacific\n\n\n\nHeld each year in the heart of Santa Barbara\, this wine festival is an immersive celebration of California’s premier wines. Featuring some of the best wineries from around the state\, the California Wine Festival provides an opportunity to sample hundreds of wines from regions like Napa\, Sonoma\, Santa Ynez\, Paso Robles\, and beyond. Whether you’re a fan of rich\, full-bodied reds like Cabernet Sauvignon and Zinfandel\, or prefer crisp\, refreshing whites like Sauvignon Blanc and Chardonnay\, you’ll find an extensive array of wines to suit your taste. \n\n\n\nThe festival showcases the diversity of California wine\, from well-known\, award-winning labels to boutique wineries offering unique varietals. With so many wines to explore\, the event is the perfect opportunity to discover new favorites and expand your palate\, all while enjoying the relaxed\, coastal ambiance that Santa Barbara is known for. \n\n\n\n\n\n\n\n\n\n\n\n\n\nPerfect Pairings\n\n\n\nOf course\, great wine is best enjoyed with great food\, and the California Wine Festival – Santa Barbara doesn’t disappoint. Local chefs and gourmet food vendors bring their culinary talents to the festival\, offering delectable bites that perfectly complement the wines being poured. Expect to indulge in farm-to-table fare\, fresh seafood\, artisan cheeses\, charcuterie\, and more—all designed to enhance your wine-tasting experience. \n\n\n\nSome of the festival’s highlights include food and wine pairing seminars\, where chefs and sommeliers collaborate to guide guests through a curated tasting journey. These sessions offer valuable insights into the art of pairing food and wine\, making it a must-attend for anyone who wants to elevate their understanding of flavor combinations. \n\n\n\nSanta Barbara’s Coastal Charm\n\n\n\nWhat makes the California Wine Festival – Santa Barbara so special is its stunning location. The festival is held outdoors\, allowing attendees to enjoy their wine tastings while taking in views of the Pacific Ocean and the palm tree-lined streets of Santa Barbara. This coastal setting creates a laid-back\, relaxed atmosphere that invites guests to slow down\, take in the scenery\, and savor each sip of wine. \n\n\n\nWhether you’re strolling through the festival grounds with a glass of Pinot Noir or lounging on the beach with a crisp Rosé\, the natural beauty of Santa Barbara elevates the entire experience. With the sound of the waves in the background and the warm sun on your skin\, it’s easy to see why the California Wine Festival in Santa Barbara is one of the most popular wine events in the state. \n\n\n\n\n\nThe California Wine Festival – Santa Barbara is an unforgettable celebration of California’s wine culture\, set in one of the state’s most beautiful coastal towns. With an incredible selection of wines\, gourmet food pairings\, live entertainment\, and stunning views\, this festival is a must-visit for anyone who loves wine and the California lifestyle. Whether you’re a seasoned wine connoisseur or just beginning to explore the world of wine\, the California Wine Festival – Santa Barbara promises a day of sipping\, savoring\, and soaking in the best of what the Golden State has to offer. \n\n\n\n\n\n\n\nSUNSET RARE & RESERVE TASTING\n\n\n\nHilton Santa Barbara Beachfront Resort  Plaza Del SolFriday\, July 19\, 2024 – 6:30-9pm \n\n\n\n\n\n\n\nBEACHSIDE WINE FESTIVAL\n\n\n\nChase Palm Park OceansideSaturday\, July 20\, 2024 – 1-4pm (VIPs 12pm)
URL:https://thirste.com/event/ca-wine-festival-santa-barbara/
LOCATION:Hilton Santa Barbara Beachfront Resort\, 633 E Cabrillo Blvd\, Santa Barbara\, California\, 93103
CATEGORIES:California Wine Festival
ATTACH;FMTTYPE=image/png:https://thirste.com/wp-content/uploads/2024/10/california_winw_festival.png
END:VEVENT
BEGIN:VEVENT
DTSTART;TZID=America/Anchorage:20250719T130000
DTEND;TZID=America/Anchorage:20250719T210000
DTSTAMP:20260423T043924
CREATED:20250415T215316Z
LAST-MODIFIED:20250415T215316Z
UID:2268-1752930000-1752958800@thirste.com
SUMMARY:Ventura Tequila & Taco Music Festival
DESCRIPTION:2025\n\n\n\n\n\nPrepare to indulge in the ultimate tequila and taco experience at California’s Largest Tequila & Taco Music Festival\, making its appearance in the vibrant city of Ventura this year! Get ready for two unforgettable days of sun-soaked fun as we celebrate the perfect trifecta of top-shelf tequila sampling\, mouthwatering gourmet street tacos\, and an electrifying atmosphere filled with live music\, margaritas\, craft beer\, and enticing vendors. \n\n\n\n\n\n\n\nVenture into a world of tantalizing flavors as you sample an impressive selection of top-shelf tequilas\, carefully curated to offer an unforgettable tasting experience. Immerse yourself in the rich traditions and complex profiles of tequila\, exploring its diverse range and discovering new favorites along the way. As you savor each sip\, you’ll be transported to the heart of Mexico\, where the agave spirit has been crafted for centuries. \n\n\n\nBut what pairs perfectly with tequila? Tacos\, of course! Delight in the culinary artistry of Ventura’s finest street taco vendors\, as they present a mouthwatering array of gourmet tacos\, bursting with fresh ingredients\, vibrant flavors\, and authentic Mexican flair. From traditional classics to innovative creations\, each bite will transport you on a culinary journey that pays homage to the rich tapestry of Mexican cuisine. \n\n\n\nAs you sip tequila and savor tacos\, immerse yourself in the captivating sounds of live music\, adding an infectious rhythm to the festival atmosphere. Talented musicians will grace the stage\, serenading you with their captivating performances\, creating an ambiance that perfectly complements the vibrant spirit of the event. \n\n\n\nAnd it doesn’t end there. Indulge in refreshing margaritas\, sip on craft beer from local breweries\, and explore a variety of vendors offering unique products and services. Immerse yourself in the festival’s vibrant energy as you peruse the stalls\, discovering treasures and creating lasting memories. \n\n\n\nWhether you’re a tequila connoisseur\, a taco enthusiast\, or simply looking for a lively weekend filled with delectable food\, lively music\, and good company\, California’s Largest Tequila & Taco Music Festival in Ventura promises an experience like no other. All ticket holders will have access to an array of food vendors\, craft beer\, margarita booths\, shopping opportunities\, and live music performances. Get ready to bask in the sun\, savor the flavors\, and celebrate the perfect fusion of tequila\, tacos\, and a fantastic festival atmosphere.
URL:https://thirste.com/event/ventura-tequila-and-taco-music-festival/
LOCATION:Ventura County Fairgrounds\, 10 W Harbor Blvd\, Ventura\, California\, 93001
CATEGORIES:Tequila
ATTACH;FMTTYPE=image/jpeg:https://thirste.com/wp-content/uploads/2023/06/TNTMusic_001.jpg
END:VEVENT
BEGIN:VEVENT
DTSTART;TZID=America/Anchorage:20250719T150000
DTEND;TZID=America/Anchorage:20250719T180000
DTSTAMP:20260423T043924
CREATED:20250618T223721Z
LAST-MODIFIED:20250618T223721Z
UID:1944-1752937200-1752948000@thirste.com
SUMMARY:The Great Arkansas Beer Festival
DESCRIPTION:2025\n\n\n\n\n\nThe Great Arkansas Beer Festival & Rock City Margarita Festival\n\n\n\nIf you’re looking for the ultimate summer bash\, mark your calendars and grab your tasting glasses—The Great Arkansas Beer Festival and The Rock City Margarita Festival are joining forces for an unforgettable celebration. Held at the Statehouse Convention Center in the heart of Downtown Little Rock\, this epic double-feature is all about good vibes\, great drinks\, and the best crowd around. \n\n\n\nA Perfect Pairing: Beer Meets Margarita\n\n\n\nThis is more than just a beer fest. It’s a flavor-packed extravaganza where craft brews meet tangy tequila\, and bubbles blend with bold wines. Whether you’re a die-hard IPA enthusiast\, a seltzer sipper\, or a margarita maven\, there’s something here to thrill every palate. You’ll receive a tasting glass with your ticket\, and once inside\, the pours are endless—all samples are included with admission. That means no tokens\, no hassle\, just sip after delicious sip. \n\n\n\nMore Than Just a Tasting\n\n\n\nWhile the drinks are the headliners\, the festival goes well beyond the glass. Think live music\, DJ sets\, games\, dance floors\, photo ops\, and generous giveaways all day long. And when the munchies hit\, you won’t be left hanging—food vendors will be on site\, serving up everything from local favorites to savory bites designed to pair perfectly with your chosen pour. \n\n\n\nThe Vibe: Pure Summer Energy\n\n\n\nThis event draws a vibrant mix of locals\, travelers\, and craft beverage lovers ready to raise a glass and celebrate summer in style. Whether you’re rolling deep with friends or flying solo and ready to mingle\, this is the party of the season. The energy is contagious\, the drinks are flowing\, and the memories? They’re as bold as the flavors. \n\n\n\nTicket Info: Sip\, Sample\, Celebrate\n\n\n\nYour ticket is your passport to unlimited samples and a souvenir tasting glass to take home. There’s no better way to explore the best brews\, margs\, wines\, and seltzers all in one place. Come thirsty\, leave happy. \n\n\n\n\n\n\n\nSo\, what are you waiting for?Downtown Little Rock is calling. The beer is cold\, the margaritas are strong\, and the dance floor is ready for you. See you at the Great Arkansas Beer Festival x Rock City Margarita Festival—the most refreshing way to celebrate summer.
URL:https://thirste.com/event/the-great-arkansas-beer-festival/
LOCATION:Statehouse Convention Center\, 101 E Markham St\, Little Rock\, Arkansas\, 72201
CATEGORIES:Beer
ATTACH;FMTTYPE=image/png:https://thirste.com/wp-content/uploads/2023/03/Arkansas-beer-square.png
END:VEVENT
END:VCALENDAR