BEGIN:VCALENDAR
VERSION:2.0
PRODID:-//Thirste - ECPv6.15.20//NONSGML v1.0//EN
CALSCALE:GREGORIAN
METHOD:PUBLISH
X-ORIGINAL-URL:https://thirste.com
X-WR-CALDESC:Events for Thirste
REFRESH-INTERVAL;VALUE=DURATION:PT1H
X-Robots-Tag:noindex
X-PUBLISHED-TTL:PT1H
BEGIN:VTIMEZONE
TZID:America/Anchorage
BEGIN:DAYLIGHT
TZOFFSETFROM:-0900
TZOFFSETTO:-0800
TZNAME:AKDT
DTSTART:20240310T110000
END:DAYLIGHT
BEGIN:STANDARD
TZOFFSETFROM:-0800
TZOFFSETTO:-0900
TZNAME:AKST
DTSTART:20241103T100000
END:STANDARD
BEGIN:DAYLIGHT
TZOFFSETFROM:-0900
TZOFFSETTO:-0800
TZNAME:AKDT
DTSTART:20250309T110000
END:DAYLIGHT
BEGIN:STANDARD
TZOFFSETFROM:-0800
TZOFFSETTO:-0900
TZNAME:AKST
DTSTART:20251102T100000
END:STANDARD
BEGIN:DAYLIGHT
TZOFFSETFROM:-0900
TZOFFSETTO:-0800
TZNAME:AKDT
DTSTART:20260308T110000
END:DAYLIGHT
BEGIN:STANDARD
TZOFFSETFROM:-0800
TZOFFSETTO:-0900
TZNAME:AKST
DTSTART:20261101T100000
END:STANDARD
END:VTIMEZONE
BEGIN:VTIMEZONE
TZID:America/Chicago
BEGIN:DAYLIGHT
TZOFFSETFROM:-0600
TZOFFSETTO:-0500
TZNAME:CDT
DTSTART:20240310T080000
END:DAYLIGHT
BEGIN:STANDARD
TZOFFSETFROM:-0500
TZOFFSETTO:-0600
TZNAME:CST
DTSTART:20241103T070000
END:STANDARD
BEGIN:DAYLIGHT
TZOFFSETFROM:-0600
TZOFFSETTO:-0500
TZNAME:CDT
DTSTART:20250309T080000
END:DAYLIGHT
BEGIN:STANDARD
TZOFFSETFROM:-0500
TZOFFSETTO:-0600
TZNAME:CST
DTSTART:20251102T070000
END:STANDARD
BEGIN:DAYLIGHT
TZOFFSETFROM:-0600
TZOFFSETTO:-0500
TZNAME:CDT
DTSTART:20260308T080000
END:DAYLIGHT
BEGIN:STANDARD
TZOFFSETFROM:-0500
TZOFFSETTO:-0600
TZNAME:CST
DTSTART:20261101T070000
END:STANDARD
END:VTIMEZONE
BEGIN:VEVENT
DTSTART;TZID=America/Anchorage:20250719T000000
DTEND;TZID=America/Anchorage:20250720T235959
DTSTAMP:20260421T202234
CREATED:20241007T162441Z
LAST-MODIFIED:20241007T162442Z
UID:4212-1752883200-1753055999@thirste.com
SUMMARY:CA Wine Festival - Santa Barbara
DESCRIPTION:Sip\, Savor\, and Soak in the Coastal Beauty\n\n\n\n2025\n\n\n\n\n\nThe California Wine Festival – Santa Barbara is more than just a wine event; it’s a celebration of the Golden State’s rich winemaking tradition set against the breathtaking backdrop of one of California’s most picturesque coastal towns. For wine enthusiasts\, casual tasters\, and food lovers alike\, this annual festival offers a memorable experience where you can sip on fine wines\, savor gourmet food\, and enjoy the beauty of Santa Barbara’s sun-soaked shores. \n\n\n\n\n\n\n\nParadise by the Pacific\n\n\n\nHeld each year in the heart of Santa Barbara\, this wine festival is an immersive celebration of California’s premier wines. Featuring some of the best wineries from around the state\, the California Wine Festival provides an opportunity to sample hundreds of wines from regions like Napa\, Sonoma\, Santa Ynez\, Paso Robles\, and beyond. Whether you’re a fan of rich\, full-bodied reds like Cabernet Sauvignon and Zinfandel\, or prefer crisp\, refreshing whites like Sauvignon Blanc and Chardonnay\, you’ll find an extensive array of wines to suit your taste. \n\n\n\nThe festival showcases the diversity of California wine\, from well-known\, award-winning labels to boutique wineries offering unique varietals. With so many wines to explore\, the event is the perfect opportunity to discover new favorites and expand your palate\, all while enjoying the relaxed\, coastal ambiance that Santa Barbara is known for. \n\n\n\n\n\n\n\n\n\n\n\n\n\nPerfect Pairings\n\n\n\nOf course\, great wine is best enjoyed with great food\, and the California Wine Festival – Santa Barbara doesn’t disappoint. Local chefs and gourmet food vendors bring their culinary talents to the festival\, offering delectable bites that perfectly complement the wines being poured. Expect to indulge in farm-to-table fare\, fresh seafood\, artisan cheeses\, charcuterie\, and more—all designed to enhance your wine-tasting experience. \n\n\n\nSome of the festival’s highlights include food and wine pairing seminars\, where chefs and sommeliers collaborate to guide guests through a curated tasting journey. These sessions offer valuable insights into the art of pairing food and wine\, making it a must-attend for anyone who wants to elevate their understanding of flavor combinations. \n\n\n\nSanta Barbara’s Coastal Charm\n\n\n\nWhat makes the California Wine Festival – Santa Barbara so special is its stunning location. The festival is held outdoors\, allowing attendees to enjoy their wine tastings while taking in views of the Pacific Ocean and the palm tree-lined streets of Santa Barbara. This coastal setting creates a laid-back\, relaxed atmosphere that invites guests to slow down\, take in the scenery\, and savor each sip of wine. \n\n\n\nWhether you’re strolling through the festival grounds with a glass of Pinot Noir or lounging on the beach with a crisp Rosé\, the natural beauty of Santa Barbara elevates the entire experience. With the sound of the waves in the background and the warm sun on your skin\, it’s easy to see why the California Wine Festival in Santa Barbara is one of the most popular wine events in the state. \n\n\n\n\n\nThe California Wine Festival – Santa Barbara is an unforgettable celebration of California’s wine culture\, set in one of the state’s most beautiful coastal towns. With an incredible selection of wines\, gourmet food pairings\, live entertainment\, and stunning views\, this festival is a must-visit for anyone who loves wine and the California lifestyle. Whether you’re a seasoned wine connoisseur or just beginning to explore the world of wine\, the California Wine Festival – Santa Barbara promises a day of sipping\, savoring\, and soaking in the best of what the Golden State has to offer. \n\n\n\n\n\n\n\nSUNSET RARE & RESERVE TASTING\n\n\n\nHilton Santa Barbara Beachfront Resort  Plaza Del SolFriday\, July 19\, 2024 – 6:30-9pm \n\n\n\n\n\n\n\nBEACHSIDE WINE FESTIVAL\n\n\n\nChase Palm Park OceansideSaturday\, July 20\, 2024 – 1-4pm (VIPs 12pm)
URL:https://thirste.com/event/ca-wine-festival-santa-barbara/
LOCATION:Hilton Santa Barbara Beachfront Resort\, 633 E Cabrillo Blvd\, Santa Barbara\, California\, 93103
CATEGORIES:California Wine Festival
ATTACH;FMTTYPE=image/png:https://thirste.com/wp-content/uploads/2024/10/california_winw_festival.png
END:VEVENT
BEGIN:VEVENT
DTSTART;TZID=America/Chicago:20250720T000000
DTEND;TZID=America/Chicago:20250725T235959
DTSTAMP:20260421T202234
CREATED:20241125T140456Z
LAST-MODIFIED:20241125T140457Z
UID:1067-1752969600-1753487999@thirste.com
SUMMARY:Tales of the Cocktail
DESCRIPTION:A Celebration of Mixology\, Culture\, and Community\n\n\n\nFor nearly two decades\, Tales of the Cocktail® has been at the heart of the global cocktail and spirits industry. Held annually in New Orleans\, this iconic event is more than just a festival—it’s a dynamic gathering that unites bartenders\, distillers\, brand ambassadors\, and cocktail enthusiasts from around the world. As the leading cocktail conference in the industry\, Tales of the Cocktail® offers an unparalleled opportunity to celebrate the artistry of mixology while fostering education\, innovation\, and connection. \n\n\n\n2025\n\n\n\n\n\nRated one of our Top Four Cocktail Events \n\n\n\nWhat to Expect at Tales\n\n\n\nTales of the Cocktail® is a multifaceted experience\, blending education\, networking\, and celebration into six unforgettable days. \n\n\n\n\n\n\n\n\n\n\n\n\n\nHere’s what makes Tales of the Cocktail® standout: \n\n\n\nInnovative Seminars and Workshops\n\n\n\nTales of the Cocktail® is renowned for its educational sessions\, which cover everything from mixology techniques and cocktail trends to business strategies for bar owners. Led by world-class experts\, these seminars provide a deep dive into the evolving spirits industry\, offering valuable insights for both professionals and enthusiasts. \n\n\n\nTastings and Brand Showcases\n\n\n\nSpirits brands from around the globe gather at Tales to showcase their products. From large-scale tasting rooms to intimate brand activations\, attendees can sample new releases\, rare spirits\, and innovative flavors while connecting directly with the makers and ambassadors behind them. \n\n\n\nNetworking Opportunities\n\n\n\nTales brings together a diverse mix of bartenders\, distillers\, brand ambassadors\, writers\, and industry leaders. Whether it’s through casual meetups\, panel discussions\, or late-night parties\, the event fosters meaningful connections that often lead to collaboration and innovation. \n\n\n\nAwards and Recognition\n\n\n\nThe prestigious Spirited Awards®\, held during Tales of the Cocktail®\, honor excellence in the spirits and hospitality industry. From the best bars and bartenders to groundbreaking new products\, the awards celebrate those who are shaping the future of the industry. \n\n\n\nNew Orleans’ Cocktail Legacy\n\n\n\nNew Orleans is a city synonymous with cocktails\, as the birthplace of legendary drinks like the Sazerac and the Ramos Gin Fizz. Tales of the Cocktail® highlights this rich heritage\, offering attendees a chance to experience the city’s vibrant culture\, historic bars\, and iconic cocktails. \n\n\n\n\n\nThe Rich History of Tales\n\n\n\nFounded in 2002 by Ann and Paul Tuennerman\, Tales of the Cocktail® began as a small gathering of spirits enthusiasts eager to celebrate New Orleans’ storied cocktail culture. Over the years\, it has grown into a global phenomenon\, earning a reputation as the premier event for those passionate about the cocktail and spirits world. Today\, the event attracts thousands of attendees annually and offers a platform for professionals to share their expertise\, discover new trends\, and celebrate the rich history of cocktails. \n\n\n\n\n\n\n\n\n\n\n\n\n\n\n\nMore Than a Festival: Giving Back\n\n\n\nTales of the Cocktail® is not just about celebration; it’s also about giving back to the industry. Through the Tales of the Cocktail Foundation\, the event supports initiatives focused on education\, sustainability\, and diversity in the spirits world. From scholarships for bartenders to programs aimed at improving mental health in the hospitality industry\, the foundation’s work ensures that Tales leaves a lasting impact beyond its six days of festivities. \n\n\n\n\n\nFor bartenders\, distillers\, and spirits enthusiasts\, Tales of the Cocktail® is the ultimate destination to learn\, connect\, and celebrate. Whether you’re looking to refine your craft\, discover new products\, or simply immerse yourself in the world of cocktails\, this event offers a once-in-a-lifetime experience. \n\n\n\nJoin the global cocktail community in New Orleans and raise a glass to the creativity\, craftsmanship\, and camaraderie that make Tales of the Cocktail® truly unforgettable.
URL:https://thirste.com/event/tales-of-the-cocktail/
LOCATION:New Orleans\, New Orleans\, LA\, 70130
CATEGORIES:Cocktail
ATTACH;FMTTYPE=image/png:https://thirste.com/wp-content/uploads/2023/02/Tales-of-the-Cocktail-Logo.png
END:VEVENT
END:VCALENDAR