BEGIN:VCALENDAR
VERSION:2.0
PRODID:-//Thirste - ECPv6.15.20//NONSGML v1.0//EN
CALSCALE:GREGORIAN
METHOD:PUBLISH
X-ORIGINAL-URL:https://thirste.com
X-WR-CALDESC:Events for Thirste
REFRESH-INTERVAL;VALUE=DURATION:PT1H
X-Robots-Tag:noindex
X-PUBLISHED-TTL:PT1H
BEGIN:VTIMEZONE
TZID:America/Anchorage
BEGIN:DAYLIGHT
TZOFFSETFROM:-0900
TZOFFSETTO:-0800
TZNAME:AKDT
DTSTART:20240310T110000
END:DAYLIGHT
BEGIN:STANDARD
TZOFFSETFROM:-0800
TZOFFSETTO:-0900
TZNAME:AKST
DTSTART:20241103T100000
END:STANDARD
BEGIN:DAYLIGHT
TZOFFSETFROM:-0900
TZOFFSETTO:-0800
TZNAME:AKDT
DTSTART:20250309T110000
END:DAYLIGHT
BEGIN:STANDARD
TZOFFSETFROM:-0800
TZOFFSETTO:-0900
TZNAME:AKST
DTSTART:20251102T100000
END:STANDARD
BEGIN:DAYLIGHT
TZOFFSETFROM:-0900
TZOFFSETTO:-0800
TZNAME:AKDT
DTSTART:20260308T110000
END:DAYLIGHT
BEGIN:STANDARD
TZOFFSETFROM:-0800
TZOFFSETTO:-0900
TZNAME:AKST
DTSTART:20261101T100000
END:STANDARD
END:VTIMEZONE
BEGIN:VEVENT
DTSTART;TZID=America/Anchorage:20250726T143000
DTEND;TZID=America/Anchorage:20250726T180000
DTSTAMP:20260423T043951
CREATED:20241220T152032Z
LAST-MODIFIED:20241220T152033Z
UID:4646-1753540200-1753552800@thirste.com
SUMMARY:Denver Summer Tequila Tasting Festival
DESCRIPTION:The Denver Summer Tequila Tasting Festival is a celebration of all things agave\, featuring an impressive lineup of tequilas\, mezcals\, and other agave-based spirits. From smooth blancos to complex añejos and smoky mezcals\, the festival offers a journey through the diverse flavors and styles of these Mexican spirits. Attendees will have the opportunity to sample a wide variety of tequilas from top distilleries and boutique producers\, learning about the craft and culture behind each sip. \n\n\n\n\n\n\n\n\n\nInteractive Tastings and EducationOne of the highlights of the festival is the opportunity to interact with brand ambassadors\, distillers\, and tequila experts. Guests can deepen their understanding of the agave plant\, the distillation process\, and the unique characteristics that define different tequila regions. Whether you’re curious about how aging affects flavor or the difference between tequila and mezcal\, this festival is as educational as it is enjoyable. \n\n\n\nA Summer FiestaThe Denver Summer Tequila Tasting Festival isn’t just about the drinks—it’s about the atmosphere. Expect a lively summer vibe with music\, festive decorations\, and delicious Mexican-inspired cuisine to pair with your tequila tastings. Food vendors and local restaurants will be on-site\, offering mouthwatering tacos\, street corn\, and other bites to perfectly complement your agave adventure. \n\n\n\nPerfect for Groups and EnthusiastsWhether you’re attending with friends\, a date\, or on your own\, the festival is a social event that fosters connection. Share tasting notes\, discover new favorites\, and enjoy the camaraderie of fellow tequila fans. The festival is also a fantastic way to introduce yourself to new brands and styles you might not have tried before. \n\n\n\nSip ResponsiblyWhile the Denver Summer Tequila Tasting Festival is all about fun\, safety is a priority. The event encourages responsible drinking and provides options for safe transportation to and from the venue. Don’t forget to stay hydrated and pace yourself as you sip your way through the selections. \n\n\n\nJoin the Agave AdventureThis summer\, immerse yourself in the rich traditions and vibrant flavors of tequila at the Denver Summer Tequila Tasting Festival. Whether you’re a connoisseur or just curious\, this event is your chance to explore the magic of agave in the heart of Denver. Grab your tickets\, gather your friends\, and get ready for an unforgettable summer fiesta!
URL:https://thirste.com/event/denver-summer-tequila-tasting-festival/
LOCATION:Downtown Denver\, Denver\, Colorado\, 80202
CATEGORIES:Tequila
ATTACH;FMTTYPE=image/webp:https://thirste.com/wp-content/uploads/2024/12/Denver_Summer_Tequila_Tasting_Festival_logo.webp
END:VEVENT
BEGIN:VEVENT
DTSTART;TZID=America/Anchorage:20250726T143000
DTEND;TZID=America/Anchorage:20250726T180000
DTSTAMP:20260423T043951
CREATED:20241220T190150Z
LAST-MODIFIED:20241220T190150Z
UID:4677-1753540200-1753552800@thirste.com
SUMMARY:Chicago Summer Tequila Tasting Festival
DESCRIPTION:If you’re a tequila lover\, the Chicago Summer Tequila Tasting Festival is a must-attend event that combines summer vibes with a celebration of agave spirits. Set in the vibrant heart of Chicago\, this one-day festival offers attendees the perfect opportunity to explore an impressive variety of tequilas\, mezcals\, and other agave-based spirits while soaking in the excitement of the city. Whether you’re a seasoned connoisseur or just beginning your tequila journey\, this event promises a memorable experience filled with fun\, flavor\, and discovery. \n\n\n\n\n\n\n\n\n\nExplore a World of Agave Spirits\n\n\n\nThe festival boasts an impressive selection of over 50 different tequilas and mezcals. From crisp and smooth blancos to rich and aged añejos and the smoky complexity of mezcal\, there’s a spirit for every palate. Each sip tells a unique story of craftsmanship and tradition\, making it a memorable journey through the diverse world of agave spirits. \n\n\n\nExpert Guidance: Brand ambassadors and industry experts will be on-site to guide tastings\, answer questions\, and provide insight into the art of tequila and mezcal making. \n\n\n\n\n\n\n\nA Festive Summer Atmosphere\n\n\n\nThe Chicago Summer Tequila Tasting Festival is more than just a tasting event—it’s a celebration. The lively atmosphere features vibrant music\, interactive experiences\, and a festive ambiance that perfectly captures the spirit of summer in Chicago. \n\n\n\n\n\n\n\nSavor Delicious Pairings\n\n\n\nNo tequila tasting is complete without delicious bites! The festival offers food options from local vendors that are carefully curated to complement the bold and complex flavors of tequila and mezcal. Whether you’re craving tacos or other Mexican-inspired treats\, there’s something for everyone to enjoy. \n\n\n\n\n\n\n\nConnect with Fellow Tequila Enthusiasts\n\n\n\nThis event is the perfect opportunity to meet like-minded tequila lovers. Whether you’re discovering a new favorite brand\, learning about the distillation process\, or just enjoying the festive vibes\, the festival offers a great way to connect and share your passion for agave spirits. \n\n\n\n\n\n\n\nCheers to Summer and Tequila\n\n\n\nThe Chicago Summer Tequila Tasting Festival is more than just a tequila event—it’s a celebration of summer\, culture\, and community. Don’t miss your chance to experience this unforgettable day of tastings\, delicious food\, and an electric atmosphere. \n\n\n\nRaise a glass and join the fun. Cheers to tequila\, summer\, and making memories in Chicago!
URL:https://thirste.com/event/chicago-summer-tequila-tasting-festival/
LOCATION:Chicago\, Chicago\, Illinois\, 69694
CATEGORIES:Tequila
ATTACH;FMTTYPE=image/webp:https://thirste.com/wp-content/uploads/2024/12/Chicago_Summer_Tequila_Tasting_Festival.webp
END:VEVENT
END:VCALENDAR