BEGIN:VCALENDAR
VERSION:2.0
PRODID:-//Thirste - ECPv6.15.20//NONSGML v1.0//EN
CALSCALE:GREGORIAN
METHOD:PUBLISH
X-ORIGINAL-URL:https://thirste.com
X-WR-CALDESC:Events for Thirste
REFRESH-INTERVAL;VALUE=DURATION:PT1H
X-Robots-Tag:noindex
X-PUBLISHED-TTL:PT1H
BEGIN:VTIMEZONE
TZID:America/Anchorage
BEGIN:DAYLIGHT
TZOFFSETFROM:-0900
TZOFFSETTO:-0800
TZNAME:AKDT
DTSTART:20240310T110000
END:DAYLIGHT
BEGIN:STANDARD
TZOFFSETFROM:-0800
TZOFFSETTO:-0900
TZNAME:AKST
DTSTART:20241103T100000
END:STANDARD
BEGIN:DAYLIGHT
TZOFFSETFROM:-0900
TZOFFSETTO:-0800
TZNAME:AKDT
DTSTART:20250309T110000
END:DAYLIGHT
BEGIN:STANDARD
TZOFFSETFROM:-0800
TZOFFSETTO:-0900
TZNAME:AKST
DTSTART:20251102T100000
END:STANDARD
BEGIN:DAYLIGHT
TZOFFSETFROM:-0900
TZOFFSETTO:-0800
TZNAME:AKDT
DTSTART:20260308T110000
END:DAYLIGHT
BEGIN:STANDARD
TZOFFSETFROM:-0800
TZOFFSETTO:-0900
TZNAME:AKST
DTSTART:20261101T100000
END:STANDARD
END:VTIMEZONE
BEGIN:VEVENT
DTSTART;TZID=America/Anchorage:20250802T120000
DTEND;TZID=America/Anchorage:20250802T180000
DTSTAMP:20260423T044028
CREATED:20250618T224048Z
LAST-MODIFIED:20250618T224049Z
UID:2571-1754136000-1754157600@thirste.com
SUMMARY:Dallas Tacos and Margarita Festival
DESCRIPTION:2025\n\n\n\n\n\nThe Dallas Tacos and Margarita Festival\, unites the vibrant tastes of Mexican food and the invigorating tang of margaritas in the center of the city. The popular taco and popular margarita are celebrated during this much-anticipated festival\, which also highlights the rich culinary tradition of Mexico and the craft of mixology. Attendees are treated to a sumptuous feast that appeals to every palate\, with top chefs and local merchants serving up a tempting assortment of taco masterpieces. \n\n\n\nAt this thrilling event taco and margarita lovers come together\, fostering a sense of camaraderie and community that embodies Dallas. The festival offers a day full of excitement with events\, artisan merchants\, and a festive atmosphere.
URL:https://thirste.com/event/dallas-tacos-and-margarita-festival/
LOCATION:Ferris Wheelers\, 1950 Market Center Blvd\, Dallas\, Texas\, 75207
CATEGORIES:Tequila
ATTACH;FMTTYPE=image/webp:https://thirste.com/wp-content/uploads/2023/07/TMF-Logo.webp
END:VEVENT
END:VCALENDAR