BEGIN:VCALENDAR
VERSION:2.0
PRODID:-//Thirste - ECPv6.15.20//NONSGML v1.0//EN
CALSCALE:GREGORIAN
METHOD:PUBLISH
X-WR-CALNAME:Thirste
X-ORIGINAL-URL:https://thirste.com
X-WR-CALDESC:Events for Thirste
REFRESH-INTERVAL;VALUE=DURATION:PT1H
X-Robots-Tag:noindex
X-PUBLISHED-TTL:PT1H
BEGIN:VTIMEZONE
TZID:America/Anchorage
BEGIN:DAYLIGHT
TZOFFSETFROM:-0900
TZOFFSETTO:-0800
TZNAME:AKDT
DTSTART:20240310T110000
END:DAYLIGHT
BEGIN:STANDARD
TZOFFSETFROM:-0800
TZOFFSETTO:-0900
TZNAME:AKST
DTSTART:20241103T100000
END:STANDARD
BEGIN:DAYLIGHT
TZOFFSETFROM:-0900
TZOFFSETTO:-0800
TZNAME:AKDT
DTSTART:20250309T110000
END:DAYLIGHT
BEGIN:STANDARD
TZOFFSETFROM:-0800
TZOFFSETTO:-0900
TZNAME:AKST
DTSTART:20251102T100000
END:STANDARD
BEGIN:DAYLIGHT
TZOFFSETFROM:-0900
TZOFFSETTO:-0800
TZNAME:AKDT
DTSTART:20260308T110000
END:DAYLIGHT
BEGIN:STANDARD
TZOFFSETFROM:-0800
TZOFFSETTO:-0900
TZNAME:AKST
DTSTART:20261101T100000
END:STANDARD
END:VTIMEZONE
BEGIN:VEVENT
DTSTART;TZID=America/Anchorage:20250808T000000
DTEND;TZID=America/Anchorage:20250809T235959
DTSTAMP:20260423T060726
CREATED:20250520T215014Z
LAST-MODIFIED:20250520T215015Z
UID:2461-1754611200-1754783999@thirste.com
SUMMARY:Mammoth Margarita Festival
DESCRIPTION:2025\n\n\n\n\n\nMammoth Margarita Fest is returning to The Village plaza this summer\, bringing with it tempting Margaritas\, engaging music\, and a showcase of the rich traditions of Latin America’s indigenous distilled beverages. This two-night festival welcomes visitors to immerse themselves in a vibrant concert venue against a backdrop of comfortable daytime temperatures and cool evenings. As you set off on an incredible voyage filled with entertainment\, Margarita Islands\, and the chance to learn more about the world of Mezcal and Tequila through special tasting experiences. \n\n\n\n\n\n\n\nMammoth Margarita Fest is a colorful cultural fusion that combines Latin American tastes\, rhythms\, and traditions. The event showcases the skill and artistry that go into making Mezcal and Tequila\, two indigenous distilled spirits from the area. Gain a deeper understanding of the old customs and flavors that have enchanted palates for generations as you start on a sensory investigation of these prestigious spirits. Doing so will let you to immerse yourself in the region’s rich cultural past. \n\n\n\nMargaritas take center stage during Mammoth Margarita Fest\, dazzling guests with a variety of mouthwatering tastes and creative twists. Drink traditional margaritas or explore the world of inventive combinations created by skilled mixologists. Enjoy your favorite Margarita tastes\, from fruity twists to smoky infusions; each sip is a celebration of the cocktail’s enduring fascination. \n\n\n\nLive music and entertainment enhance the festival’s energetic environment to create an unforgettable experience. Dance to mariachi\, cumbia\, and salsa beats. A dynamic atmosphere is created on stage by talented artists and bands\, keeping guests dancing and having a good time all night. \n\n\n\nMammoth Margarita Fest offers exclusive Mezcal and Tequila tasting experiences for the daring and those who want to learn more about the spirits of Latin America. Purchase tasting tickets for Friday and Saturday nights to take a tour of the complexity of mezcal and tequila with an expert guide. As knowledgeable professionals share their thoughts and expertise\, you can gain information about the production procedures\, geographical variations\, and distinctive flavor characteristics. These sampling opportunities offer an exclusive opportunity to deepen your understanding of the wide range of Mezcal and Tequila products and find new favorites.
URL:https://thirste.com/event/mammoth-margarita-festival/
LOCATION:The Village at Mammoth\, 6201 Minaret Road\, Mammoth Lakes\, California\, 93546
CATEGORIES:Tequila
ATTACH;FMTTYPE=image/webp:https://thirste.com/wp-content/uploads/2023/07/mammoth-margarita.webp
END:VEVENT
END:VCALENDAR