BEGIN:VCALENDAR
VERSION:2.0
PRODID:-//Thirste - ECPv6.15.20//NONSGML v1.0//EN
CALSCALE:GREGORIAN
METHOD:PUBLISH
X-WR-CALNAME:Thirste
X-ORIGINAL-URL:https://thirste.com
X-WR-CALDESC:Events for Thirste
REFRESH-INTERVAL;VALUE=DURATION:PT1H
X-Robots-Tag:noindex
X-PUBLISHED-TTL:PT1H
BEGIN:VTIMEZONE
TZID:America/Anchorage
BEGIN:DAYLIGHT
TZOFFSETFROM:-0900
TZOFFSETTO:-0800
TZNAME:AKDT
DTSTART:20240310T110000
END:DAYLIGHT
BEGIN:STANDARD
TZOFFSETFROM:-0800
TZOFFSETTO:-0900
TZNAME:AKST
DTSTART:20241103T100000
END:STANDARD
BEGIN:DAYLIGHT
TZOFFSETFROM:-0900
TZOFFSETTO:-0800
TZNAME:AKDT
DTSTART:20250309T110000
END:DAYLIGHT
BEGIN:STANDARD
TZOFFSETFROM:-0800
TZOFFSETTO:-0900
TZNAME:AKST
DTSTART:20251102T100000
END:STANDARD
BEGIN:DAYLIGHT
TZOFFSETFROM:-0900
TZOFFSETTO:-0800
TZNAME:AKDT
DTSTART:20260308T110000
END:DAYLIGHT
BEGIN:STANDARD
TZOFFSETFROM:-0800
TZOFFSETTO:-0900
TZNAME:AKST
DTSTART:20261101T100000
END:STANDARD
END:VTIMEZONE
BEGIN:VEVENT
DTSTART;TZID=America/Anchorage:20250905T000000
DTEND;TZID=America/Anchorage:20250907T235959
DTSTAMP:20260423T074305
CREATED:20241227T215956Z
LAST-MODIFIED:20241227T215956Z
UID:1334-1757030400-1757289599@thirste.com
SUMMARY:Kentucky Bourbon Festival
DESCRIPTION:Whiskey Events\n\n\n\nKentucky Bourbon Festival\n\n\n\nBourbon enthusiasts from across the globe gather every year for the Kentucky Bourbon Festival\, a week-long celebration dedicated to the rich heritage\, craftsmanship\, and culture of America’s native spirit. Hosted in Bardstown\, often referred to as the “Bourbon Capital of the World\,” this iconic festival showcases the heart and soul of Kentucky’s bourbon-making tradition. Whether you’re a seasoned bourbon connoisseur or a curious newcomer\, this event offers something extraordinary for everyone. \n\n\n\n2025\n\n\n\n\n\n\n\n\n\n\n\n\n\n\n\n\n\n\n\nBourbon Excellence\n\n\n\nFirst held in 1991\, the Kentucky Bourbon Festival has grown into one of the most anticipated bourbon events in the country. Located in the picturesque small town of Bardstown\, which is home to some of the oldest and most renowned distilleries in the world\, the festival celebrates the deep-rooted history of bourbon. With over 200 years of bourbon-making tradition\, the area provides the perfect backdrop for this immersive experience.Over 45 of Kentucky’s finest distilleries – from the heritage brands you know and love already\, to the craft distilleries you need to discover – offering sample pours and bottle sales throughout the festival weekend. Add to that\, musical entertainment\, food trucks\, Bourbon Bar and Cocktail Lounge\, Cigar Lounge\, Bourbon Marketplace. \n\n\n\n\n\n\n\nEngaging Experiences\n\n\n\nThe Kentucky Bourbon Festival offers a diverse lineup of events and activities designed to showcase the art and science of bourbon production. Here’s what you can expect: \n\n\n\n\nBourbon Tastings: Sample a wide range of bourbons from both legacy distilleries and craft producers\, each offering unique flavors and profiles.\n\n\n\nDistillery Tours: Explore the behind-the-scenes magic of how bourbon is made with exclusive tours of iconic distilleries such as Maker’s Mark\, Heaven Hill\, and Jim Beam.\n\n\n\nEducational Workshops: Deepen your knowledge of bourbon with interactive workshops on topics like blending\, aging\, and pairing bourbon with food.\n\n\n\nMeet the Makers: Chat with master distillers\, blenders\, and brand ambassadors to gain insight into their craft and passion for bourbon.\n\n\n\nFood & Bourbon Pairings: Enjoy gourmet dishes perfectly paired with bourbon\, showcasing how the spirit enhances a variety of flavors.\n\n\n\n\n\n\nLive Music and Entertainment\n\n\n\nIn addition to celebrating bourbon\, the festival features live music performances\, local artisans\, and cultural showcases that capture the essence of Kentucky. From toe-tapping bluegrass to lively country acts\, the entertainment lineup adds an extra layer of excitement to the festivities. \n\n\n\nExclusive Bourbon Releases\n\n\n\nOne of the highlights of the Kentucky Bourbon Festival is the opportunity to purchase exclusive\, limited-edition bottles. Many distilleries use this event as a platform to unveil special releases\, making it a must-attend for collectors and bourbon lovers alike. \n\n\n\nThe Kentucky Bourbon Festival brings together people from all walks of life who share a common appreciation for this timeless spirit. The festival not only highlights the craftsmanship of bourbon but also the hospitality and charm of Kentucky itself. \n\n\n\n\n\nThe purchase of a three-day bourbon sampler admission ticket will provide attendees sampling from all participating distillery booths throughout the weekend\, a Wee Glencairn sampling glass\, ability to purchase bottles from participating distillery booths AND exclusive Single Barrel bottles from the official Kentucky Bourbon Festival Bottle Shop along with access to distilleries\, live music\, food trucks and exhibits. 
URL:https://thirste.com/event/kentucky-bourbon-festival/
LOCATION:Bardstown\, Bardstown\, Kentucky\, 40004\, United States
CATEGORIES:Whiskey
ATTACH;FMTTYPE=image/jpeg:https://thirste.com/wp-content/uploads/2023/02/kentuckybourbonfestival.jpg
END:VEVENT
BEGIN:VEVENT
DTSTART;TZID=America/Anchorage:20250907T000000
DTEND;TZID=America/Anchorage:20250913T235959
DTSTAMP:20260423T074305
CREATED:20250710T175701Z
LAST-MODIFIED:20250710T175701Z
UID:4929-1757203200-1757807999@thirste.com
SUMMARY:New Haven Cocktail Week
DESCRIPTION:🍸 A Week of Cocktail Exploration\n\n\n\n2025\n\n\n\n\n\nCocktail lovers\, get ready! New Haven Cocktail Week is the ultimate celebration of mixology\, bringing together the best bartenders\, bars\, and spirits in the city for a week-long showcase of craft cocktails\, innovative flavors\, and spirited experiences. Whether you’re a seasoned cocktail enthusiast or just looking to expand your palate\, this event offers the perfect opportunity to explore\, taste\, and learn all about the art of cocktail-making. \n\n\n\nMixology and Culture\n\n\n\nNew Haven Cocktail Week isn’t just about sipping great drinks—it’s about immersing yourself in the craft of mixology. Throughout the city\, participating bars and restaurants will feature exclusive cocktail menus\, special tastings\, and mixology demonstrations led by some of the most talented bartenders in the area. Expect unique creations\, classic favorites with a twist\, and plenty of surprises as New Haven’s cocktail scene takes center stage. \n\n\n\nSome of the highlights include:🍸 Signature Cocktails – Each participating venue showcases its own creative concoctions made especially for the event.🥃 Tasting Experiences – Sample a variety of premium spirits\, from whiskey and rum to tequila and gin.🎟 Exclusive Events – Enjoy guest bartender takeovers\, cocktail-making classes\, and pairing dinners that highlight the synergy between food and spirits. \n\n\n\n\n\n\n\nLearn from the Best\n\n\n\nOne of the best aspects of New Haven Cocktail Week is the opportunity to learn from industry professionals. Whether you’re interested in perfecting your home bartending skills or just want to gain a deeper appreciation for spirits\, there are plenty of educational workshops\, masterclasses\, and panel discussions to check out. \n\n\n\n✔ Mixology Workshops – Learn how to craft the perfect cocktail from expert bartenders.✔ Spirits Education – Deep dive into the history\, production\, and tasting notes of different spirits.✔ Industry Networking – A great chance for bartenders and spirit enthusiasts to connect\, share ideas\, and discover new trends in mixology. \n\n\n\n\n\n\n\n\n\n\n\n\n\nMore Than Just Cocktails\n\n\n\nWhile the event is centered around drinks\, New Haven Cocktail Week is also about community\, creativity\, and culture. Many venues will feature: \n\n\n\n🎶 Live music and entertainment to set the mood for a fun night out.🍽 Food pairings that complement the cocktails\, offering delicious bites alongside creative drinks.🎁 Giveaways and exclusive promotions on premium spirits and barware. \n\n\n\n\n\n\n\nWhy You Should Attend\n\n\n\nIf you love cocktails\, New Haven Cocktail Week is an event you don’t want to miss. It’s a chance to: \n\n\n\n✔ Explore the city’s best bars and cocktail lounges✔ Taste exclusive\, limited-time cocktails crafted by talented mixologists✔ Learn from industry experts and discover the latest mixology trends✔ Support local bars and restaurants while enjoying an incredible experience \n\n\n\n\n\nGet Ready for New Haven Cocktail Week!\n\n\n\n📍 Location: Various bars and venues across New Haven\, CT📅 Date: Annually (check official event website for details)🎟 Tickets & Reservations: Some events are free\, while others may require tickets or reservations \n\n\n\nGather your friends\, grab a cocktail passport\, and embark on an unforgettable week-long cocktail adventure in New Haven! 🍹
URL:https://thirste.com/event/new-haven-cocktail-week/
LOCATION:New Haven\, Connecticut\, 06519
CATEGORIES:Cocktail,Cocktail Week
ATTACH;FMTTYPE=image/avif:https://thirste.com/wp-content/uploads/2025/03/NHCWLOGO.avif
END:VEVENT
END:VCALENDAR