BEGIN:VCALENDAR
VERSION:2.0
PRODID:-//Thirste - ECPv6.15.20//NONSGML v1.0//EN
CALSCALE:GREGORIAN
METHOD:PUBLISH
X-WR-CALNAME:Thirste
X-ORIGINAL-URL:https://thirste.com
X-WR-CALDESC:Events for Thirste
REFRESH-INTERVAL;VALUE=DURATION:PT1H
X-Robots-Tag:noindex
X-PUBLISHED-TTL:PT1H
BEGIN:VTIMEZONE
TZID:America/Anchorage
BEGIN:DAYLIGHT
TZOFFSETFROM:-0900
TZOFFSETTO:-0800
TZNAME:AKDT
DTSTART:20240310T110000
END:DAYLIGHT
BEGIN:STANDARD
TZOFFSETFROM:-0800
TZOFFSETTO:-0900
TZNAME:AKST
DTSTART:20241103T100000
END:STANDARD
BEGIN:DAYLIGHT
TZOFFSETFROM:-0900
TZOFFSETTO:-0800
TZNAME:AKDT
DTSTART:20250309T110000
END:DAYLIGHT
BEGIN:STANDARD
TZOFFSETFROM:-0800
TZOFFSETTO:-0900
TZNAME:AKST
DTSTART:20251102T100000
END:STANDARD
BEGIN:DAYLIGHT
TZOFFSETFROM:-0900
TZOFFSETTO:-0800
TZNAME:AKDT
DTSTART:20260308T110000
END:DAYLIGHT
BEGIN:STANDARD
TZOFFSETFROM:-0800
TZOFFSETTO:-0900
TZNAME:AKST
DTSTART:20261101T100000
END:STANDARD
END:VTIMEZONE
BEGIN:VEVENT
DTSTART;TZID=America/Anchorage:20250914T000000
DTEND;TZID=America/Anchorage:20250917T235959
DTSTAMP:20260423T074930
CREATED:20250303T214346Z
LAST-MODIFIED:20250303T214346Z
UID:2606-1757808000-1758153599@thirste.com
SUMMARY:Bartenders Weekend
DESCRIPTION:Bartender’s Weekend emerged as a passionate endeavor\, driven by the desire to champion the very essence of hospitality that defines the heart and soul of the drinks industry. In crafting this platform\, the ultimate vision is to forge a sense of community\, where every facet of the drinks industry converges on an equal playing field. The goal is not merely to create an event but to cultivate an environment that fosters positive interactions and upholds the highest standards of professionalism. \n\n\n\n2025\n\n\n\n\n\n\n\n\n\nThis is an invitation to partake in a celebration—an ode to the vibrant and diverse tapestry of the bar industry. More than just a gathering\, Bartender’s Weekend is a rallying cry to unite and support the dedicated professionals who bring the spirit of hospitality to life. \n\n\n\nPicture a space where bartenders\, mixologists\, brand ambassadors\, and enthusiasts stand shoulder to shoulder\, each contributing their unique expertise and passion. It’s a harmonious convergence where the art of mixology\, the craft of bartending\, and the camaraderie of the community take center stage. From enlightening seminars to hands-on workshops\, every aspect of Bartender’s Weekend is curated to inspire\, educate\, and elevate the industry to new heights. \n\n\n\nIt’s not just about what happens within the event’s confines; it’s about the ripple effect that extends beyond\, shaping the future of the drinks industry. As participants engage\, share\, and connect\, they contribute to a narrative that celebrates not only the skills but also the ethos of hospitality. \n\n\n\n\n\n\n\n\n\n\n\n\n\n\n\nPlease be aware that Bartender’s Weekend is exclusively available to people who work in the service and hospitality sectors\, as well as those who are directly linked with the beverages industry as a brand\, distributor\, consultant\, or agency. \n\n\n\nAttendees must be +21. Please drink responsibly.
URL:https://thirste.com/event/bartenders-weekend/
LOCATION:The Lafayette Hotel\, 2223 El Cajon Blvd\, San Diego\, California\, 92104
CATEGORIES:Industry Exclusive
ATTACH;FMTTYPE=image/png:https://thirste.com/wp-content/uploads/2023/07/bartenders-weekend-square.png
END:VEVENT
BEGIN:VEVENT
DTSTART;TZID=America/Anchorage:20250915T000000
DTEND;TZID=America/Anchorage:20250921T235959
DTSTAMP:20260423T074930
CREATED:20241010T154502Z
LAST-MODIFIED:20241031T124552Z
UID:4228-1757894400-1758499199@thirste.com
SUMMARY:New Orleans Cocktail Week
DESCRIPTION:A Spirited Celebration of Mixology\, Culture\, and Tradition\n\n\n\n2025\n\n\n\n\n\nNew Orleans is a city known for its vibrant culture\, lively music\, and rich culinary traditions. But there’s another aspect of the Crescent City that brings people together from around the world—its legendary cocktail scene. Enter New Orleans Cocktail Week\, a celebration of the city’s deep-rooted cocktail heritage and the art of mixology that has shaped its social and cultural landscape. \n\n\n\nA Week of Mixology and Culture\n\n\n\nNew Orleans Cocktail Week is more than just a celebration of drinks; it’s a fusion of history\, culture\, and innovation. Held annually\, this week-long event invites locals\, bartenders\, cocktail enthusiasts\, and industry experts to come together and celebrate everything that makes New Orleans one of the most famous cocktail cities in the world. \n\n\n\nFrom classic concoctions to modern innovations\, Cocktail Week showcases the evolution of the city’s iconic drinks. Whether you’re an amateur cocktail lover or a seasoned connoisseur\, this event offers something for everyone—from cocktail-making classes and tastings to exclusive parties and seminars led by world-renowned bartenders. \n\n\n\n\n\n\n\nCelebrating Classic New Orleans Cocktails\n\n\n\nOne of the highlights of New Orleans Cocktail Week is the opportunity to explore the city’s rich history through its most famous drinks. Known as the birthplace of some of the world’s most iconic cocktails\, New Orleans is home to timeless favorites like: \n\n\n\n\nThe Sazerac: Often referred to as the “world’s first cocktail\,” the Sazerac is a staple of New Orleans’ cocktail culture. Made with rye whiskey\, absinthe\, sugar\, and bitters\, this drink has a storied history that dates back to the 19th century.\n\n\n\nThe Ramos Gin Fizz: This frothy\, citrusy delight has been a signature of New Orleans since the late 1800s. A combination of gin\, lemon and lime juice\, egg white\, cream\, and soda water\, the Ramos Gin Fizz is known for its light\, refreshing character.\n\n\n\nThe Hurricane: Originally created at Pat O’Brien’s Bar\, the Hurricane is a rum-based cocktail with passion fruit and lime juice\, often associated with New Orleans’ boisterous festival season\, including Mardi Gras.\n\n\n\nThe Vieux Carré: Named after the French Quarter (Vieux Carré means “old square” in French)\, this cocktail combines rye whiskey\, Cognac\, sweet vermouth\, Bénédictine\, and bitters for a drink that’s as complex and exciting as the city itself.\n\n\n\n\n\n\n\n\n\n\n\n\n\n\nPlan Your Trip to New Orleans Cocktail Week\n\n\n\nNew Orleans Cocktail Week typically takes place in the spring\, making it the perfect time to visit the city. The weather is ideal for exploring the streets of the French Quarter\, soaking up the history\, and enjoying the culinary and cocktail delights the city has to offer. \n\n\n\nWhether you’re attending for the cocktails\, the culture\, or the camaraderie\, New Orleans Cocktail Week promises an experience unlike any other. With events spread across the city’s most iconic bars and venues\, you’ll have the chance to discover hidden gems\, meet legendary bartenders\, and toast to the timeless spirit of New Orleans.
URL:https://thirste.com/event/new-orleans-cocktail-week/
LOCATION:New Orleans\, New Orleans\, LA\, 70130
CATEGORIES:Cocktail,Cocktail Week
ATTACH;FMTTYPE=image/png:https://thirste.com/wp-content/uploads/2024/10/New_Orleans-Cocktail-Week-Logo-2.png
END:VEVENT
END:VCALENDAR