BEGIN:VCALENDAR
VERSION:2.0
PRODID:-//Thirste - ECPv6.15.20//NONSGML v1.0//EN
CALSCALE:GREGORIAN
METHOD:PUBLISH
X-ORIGINAL-URL:https://thirste.com
X-WR-CALDESC:Events for Thirste
REFRESH-INTERVAL;VALUE=DURATION:PT1H
X-Robots-Tag:noindex
X-PUBLISHED-TTL:PT1H
BEGIN:VTIMEZONE
TZID:America/Anchorage
BEGIN:DAYLIGHT
TZOFFSETFROM:-0900
TZOFFSETTO:-0800
TZNAME:AKDT
DTSTART:20240310T110000
END:DAYLIGHT
BEGIN:STANDARD
TZOFFSETFROM:-0800
TZOFFSETTO:-0900
TZNAME:AKST
DTSTART:20241103T100000
END:STANDARD
BEGIN:DAYLIGHT
TZOFFSETFROM:-0900
TZOFFSETTO:-0800
TZNAME:AKDT
DTSTART:20250309T110000
END:DAYLIGHT
BEGIN:STANDARD
TZOFFSETFROM:-0800
TZOFFSETTO:-0900
TZNAME:AKST
DTSTART:20251102T100000
END:STANDARD
BEGIN:DAYLIGHT
TZOFFSETFROM:-0900
TZOFFSETTO:-0800
TZNAME:AKDT
DTSTART:20260308T110000
END:DAYLIGHT
BEGIN:STANDARD
TZOFFSETFROM:-0800
TZOFFSETTO:-0900
TZNAME:AKST
DTSTART:20261101T100000
END:STANDARD
END:VTIMEZONE
BEGIN:VEVENT
DTSTART;TZID=America/Anchorage:20251002T180000
DTEND;TZID=America/Anchorage:20251002T210000
DTSTAMP:20260423T074719
CREATED:20250303T215826Z
LAST-MODIFIED:20250303T215925Z
UID:2078-1759428000-1759438800@thirste.com
SUMMARY:WhiskyX Boston
DESCRIPTION:Over 60 renowned whiskey brands are offered as you immerse yourself in a world of exceptional flavors. You will go through the finest selections of Bourbon\, American\, Irish\, Scotch\, Rye\, Single Malt\, and other remarkable whiskies throughout this extraordinary event. In the company of whiskey enthusiasts and experts\, enhance your knowledge while expanding your palate and discovering hidden jewels. WhiskyX promises a memorable celebration of the art and expertise behind premium spirits\, whether you’re a seasoned enthusiast or new to the world of whiskey.
URL:https://thirste.com/event/whiskyx-boston/
LOCATION:SoWa Power Station\, 550 Harrison Ave\, Boston\, Massachusetts\, 02118\, United States
CATEGORIES:Whiskey
ATTACH;FMTTYPE=image/jpeg:https://thirste.com/wp-content/uploads/2023/05/whiskyx-e1685456421759.jpg
END:VEVENT
END:VCALENDAR