BEGIN:VCALENDAR
VERSION:2.0
PRODID:-//Thirste - ECPv6.15.20//NONSGML v1.0//EN
CALSCALE:GREGORIAN
METHOD:PUBLISH
X-WR-CALNAME:Thirste
X-ORIGINAL-URL:https://thirste.com
X-WR-CALDESC:Events for Thirste
REFRESH-INTERVAL;VALUE=DURATION:PT1H
X-Robots-Tag:noindex
X-PUBLISHED-TTL:PT1H
BEGIN:VTIMEZONE
TZID:America/Anchorage
BEGIN:DAYLIGHT
TZOFFSETFROM:-0900
TZOFFSETTO:-0800
TZNAME:AKDT
DTSTART:20240310T110000
END:DAYLIGHT
BEGIN:STANDARD
TZOFFSETFROM:-0800
TZOFFSETTO:-0900
TZNAME:AKST
DTSTART:20241103T100000
END:STANDARD
BEGIN:DAYLIGHT
TZOFFSETFROM:-0900
TZOFFSETTO:-0800
TZNAME:AKDT
DTSTART:20250309T110000
END:DAYLIGHT
BEGIN:STANDARD
TZOFFSETFROM:-0800
TZOFFSETTO:-0900
TZNAME:AKST
DTSTART:20251102T100000
END:STANDARD
BEGIN:DAYLIGHT
TZOFFSETFROM:-0900
TZOFFSETTO:-0800
TZNAME:AKDT
DTSTART:20260308T110000
END:DAYLIGHT
BEGIN:STANDARD
TZOFFSETFROM:-0800
TZOFFSETTO:-0900
TZNAME:AKST
DTSTART:20261101T100000
END:STANDARD
END:VTIMEZONE
BEGIN:VEVENT
DTSTART;TZID=America/Anchorage:20251009T080000
DTEND;TZID=America/Anchorage:20251012T170000
DTSTAMP:20260423T133247
CREATED:20250628T182233Z
LAST-MODIFIED:20250628T182347Z
UID:2455-1759996800-1760288400@thirste.com
SUMMARY:Nashville Whiskey Festival
DESCRIPTION:2025\n\n\n\n\n\nThe Nashville Whiskey Festival invites whiskey enthusiasts and novices alike to immerse themselves in three days of memorable experiences every year. This well-known festival\, which combines whiskey tastings with education\, live music\, delicious food\, and\, of course\, whiskey\, has become a beloved tradition for whiskey aficionados. Despite the difficulties of the previous year\, the festival changes with the times and launches to provide participants with a high-quality experience. At the Nashville Whiskey Festival this year\, get ready to embrace the spirit and set out on an unforgettable trip. \n\n\n\nEducation\n\n\n\nThe Nashville Whiskey Festival emphasizes both knowledge and flavor. Whiskey lovers can deepen their awareness of the treasured spirit on this interactive event’s platform. Through seminars\, workshops\, and guided tastings\, attendees can interact with leading professionals and master distillers. Learn how whiskey is made\, study the craft of mixing\, and delve into the fascinating backstories and tales of well-known whiskey brands. The educational opportunities at the festival promise to inform and inspire\, whether you’re a beginner eager to learn or an experienced connoisseur looking to increase your knowledge. \n\n\n\nWhiskey Tastings\n\n\n\nThe Nashville Whiskey Festival’s whiskey tastings\, where visitors can try a wide variety of whiskeys from around the world\, are its focal point. The event features a wide variety of expressions\, including bourbon\, rye\, Scotch\, Irish\, and more\, from well-known brands to undiscovered gems. Explore the subtleties of various styles\, flavors\, and locales while being guided by knowledgeable professionals who are enthusiastic about sharing their love of whiskey.
URL:https://thirste.com/event/nashville-whiskey-festival/
LOCATION:The Omni Hotel\, 250 Rep. John Lewis Way South\, Nashville\, Tennessee\, 37203
CATEGORIES:Whiskey
ATTACH;FMTTYPE=image/png:https://thirste.com/wp-content/uploads/2023/07/whiskey-festival-Nashville.png
END:VEVENT
END:VCALENDAR