BEGIN:VCALENDAR
VERSION:2.0
PRODID:-//Thirste - ECPv6.15.20//NONSGML v1.0//EN
CALSCALE:GREGORIAN
METHOD:PUBLISH
X-WR-CALNAME:Thirste
X-ORIGINAL-URL:https://thirste.com
X-WR-CALDESC:Events for Thirste
REFRESH-INTERVAL;VALUE=DURATION:PT1H
X-Robots-Tag:noindex
X-PUBLISHED-TTL:PT1H
BEGIN:VTIMEZONE
TZID:America/Los_Angeles
BEGIN:DAYLIGHT
TZOFFSETFROM:-0800
TZOFFSETTO:-0700
TZNAME:PDT
DTSTART:20250309T100000
END:DAYLIGHT
BEGIN:STANDARD
TZOFFSETFROM:-0700
TZOFFSETTO:-0800
TZNAME:PST
DTSTART:20251102T090000
END:STANDARD
BEGIN:DAYLIGHT
TZOFFSETFROM:-0800
TZOFFSETTO:-0700
TZNAME:PDT
DTSTART:20260308T100000
END:DAYLIGHT
BEGIN:STANDARD
TZOFFSETFROM:-0700
TZOFFSETTO:-0800
TZNAME:PST
DTSTART:20261101T090000
END:STANDARD
BEGIN:DAYLIGHT
TZOFFSETFROM:-0800
TZOFFSETTO:-0700
TZNAME:PDT
DTSTART:20270314T100000
END:DAYLIGHT
BEGIN:STANDARD
TZOFFSETFROM:-0700
TZOFFSETTO:-0800
TZNAME:PST
DTSTART:20271107T090000
END:STANDARD
END:VTIMEZONE
BEGIN:VTIMEZONE
TZID:America/Anchorage
BEGIN:DAYLIGHT
TZOFFSETFROM:-0900
TZOFFSETTO:-0800
TZNAME:AKDT
DTSTART:20250309T110000
END:DAYLIGHT
BEGIN:STANDARD
TZOFFSETFROM:-0800
TZOFFSETTO:-0900
TZNAME:AKST
DTSTART:20251102T100000
END:STANDARD
BEGIN:DAYLIGHT
TZOFFSETFROM:-0900
TZOFFSETTO:-0800
TZNAME:AKDT
DTSTART:20260308T110000
END:DAYLIGHT
BEGIN:STANDARD
TZOFFSETFROM:-0800
TZOFFSETTO:-0900
TZNAME:AKST
DTSTART:20261101T100000
END:STANDARD
BEGIN:DAYLIGHT
TZOFFSETFROM:-0900
TZOFFSETTO:-0800
TZNAME:AKDT
DTSTART:20270314T110000
END:DAYLIGHT
BEGIN:STANDARD
TZOFFSETFROM:-0800
TZOFFSETTO:-0900
TZNAME:AKST
DTSTART:20271107T100000
END:STANDARD
END:VTIMEZONE
BEGIN:VEVENT
DTSTART;TZID=America/Los_Angeles:20260419T000000
DTEND;TZID=America/Los_Angeles:20260426T235959
DTSTAMP:20260424T011754
CREATED:20260129T193035Z
LAST-MODIFIED:20260129T193246Z
UID:935-1776556800-1777247999@thirste.com
SUMMARY:Seattle Cocktail Week
DESCRIPTION:2026\n\n\n\n\n\nSeattle Cocktail Week is a much-anticipated and vibrant week-long extravaganza that pays homage to the thriving cocktail culture of the Emerald City. This sensational event brings together the finest bars in Seattle and renowned liquor brands from around the globe\, converging to showcase an extraordinary array of cocktail concoctions that exemplify the city’s creativity and innovation in mixology. \n\n\n\n\n\n\n\nThroughout the week\, cocktail enthusiasts and curious connoisseurs alike are treated to a captivating journey through the diverse flavors\, artistry\, and craftsmanship that define Seattle’s cocktail scene. From classic cocktails to avant-garde creations\, each libation is a testament to the ingenuity and skill of the talented mixologists who call this city home. \n\n\n\nSeattle Cocktail Week presents a unique opportunity to discover new tastes and indulge in unexpected flavor combinations. Guests can sip on meticulously crafted drinks that embody the essence of the Pacific Northwest\, incorporating locally sourced ingredients\, botanicals\, and spirits. With every sip\, they embark on a sensory adventure that showcases the city’s rich culinary heritage and its continuous push for innovation in the world of cocktails. \n\n\n\nBeyond the delicious libations\, Seattle Cocktail Week serves as a platform for education and collaboration. Attendees have the chance to attend masterclasses\, workshops\, and seminars hosted by industry experts\, where they can deepen their understanding of mixology techniques\, learn about the latest trends\, and gain valuable insights from renowned professionals. \n\n\n\n\n\n\n\nThis celebration of Seattle’s cocktail scene also fosters a sense of community\, bringing together cocktail enthusiasts\, bartenders\, brand ambassadors\, and industry leaders. It serves as a hub for networking\, exchanging ideas\, and forging new connections\, creating an atmosphere of camaraderie and shared passion for the craft. \n\n\n\nSeattle Cocktail Week is more than just a week-long event; it is a celebration of the city’s vibrant nightlife\, culinary prowess\, and unwavering dedication to the art of mixology. It invites locals and visitors alike to immerse themselves in an extraordinary world of flavors\, aromas\, and experiences\, where every cocktail tells a story and every sip ignites the senses. \n\n\n\nCheck out the Participating Locations\, the amazing Events happening all week and don’t miss the grand tasting event\, Carnival of Cocktails\, with over 200 spirits to try\, masterclasses\, food trucks\, and more! \n\n\n\nRated one of our Top Four Cocktail Events \n\n\n\n\n\n\n\n\n\n\n\n\n\nAlso See: Seattle Spirit Events
URL:https://thirste.com/event/seattle-cocktail-week/
LOCATION:Seattle\, Seattle\, WA\, 98109\, United States
CATEGORIES:Cocktail,Cocktail Week,Seattle
ATTACH;FMTTYPE=image/jpeg:https://thirste.com/wp-content/uploads/2023/02/Cocktail_Week_Web_Optimized_1500x1000.jpg
END:VEVENT
BEGIN:VEVENT
DTSTART;TZID=America/Anchorage:20260420T000000
DTEND;TZID=America/Anchorage:20260426T235959
DTSTAMP:20260424T011754
CREATED:20260129T224143Z
LAST-MODIFIED:20260129T224143Z
UID:1077-1776643200-1777247999@thirste.com
SUMMARY:Charleston Cocktail Week
DESCRIPTION:Charleston Cocktail Week unfolds as a captivating 7-day celebration\, a culinary and mixological journey that casts a spotlight on the award-winning bars and restaurants nestled within the charming expanse of this historic city. \n\n\n\n2026\n\n\n\n\n\n\n\n\n\nThis festival is more than a series of events; it’s a harmonious symphony that unites locals and travelers\, inviting them to partake in a gastronomic adventure crafted by the virtuosos of Charleston’s culinary scene. Throughout the week\, the stage is set for an exploration of epicurean masterpieces\, a canvas painted with the artistry of renowned chefs\, mixologists\, and bartenders who transform every sip and bite into a sensory masterpiece. \n\n\n\nEmbark on a flavorful odyssey as Charleston’s vibrant establishments showcase their prowess\, each venue offering a unique expression of the city’s culinary and mixological spirit. From the classic elegance of historic bars to the avant-garde creativity of modern mixology\, Charleston Cocktail Week becomes a tapestry of experiences that cater to every palate and preference.
URL:https://thirste.com/event/charleston-cocktail-week/
LOCATION:Charleston\, Charleston\, SC\, 29401\, United States
CATEGORIES:Cocktail,Cocktail Week
ATTACH;FMTTYPE=image/png:https://thirste.com/wp-content/uploads/2023/02/Charleston.png
END:VEVENT
BEGIN:VEVENT
DTSTART;TZID=America/Anchorage:20260422T000000
DTEND;TZID=America/Anchorage:20260424T235959
DTSTAMP:20260424T011754
CREATED:20260129T224646Z
LAST-MODIFIED:20260129T224646Z
UID:3892-1776816000-1777075199@thirste.com
SUMMARY:Universal Whisky Experience
DESCRIPTION:2026\n\n\n\n\n\nLas Vegas\n\n\n\nThe Ultimate Whisky and Spirits Experience is an extraordinary gathering of whisky enthusiasts and connoisseurs from around the globe. Here\, amidst the vibrant atmosphere of camaraderie and excitement\, you’ll have the chance to indulge in the most premium whiskies and spirits from all the major distilleries worldwide. \n\n\n\nAttendees are transported into a realm of unparalleled sophistication and refinement\, where each sip is a journey of discovery and delight. From the iconic single malts of Scotland to the innovative blends of Japan\, and the bold bourbons of The United States\, every pour represents the pinnacle of distilling mastery. With offerings spanning rare vintages\, limited editions\, one-of-a-kind releases\, and a showcase of the finest spirits that the world has to offer. \n\n\n\nBeyond Libations\n\n\n\nBeyond the exquisite libations\, The Ultimate Whisky Experience offers a rich tapestry of experiences designed to engage and captivate the senses. Expert-led tastings\, masterclasses\, and interactive seminars provide attendees with invaluable insights into the art and science of spirits production\, while curated culinary pairings elevate the tasting experience to new heights of indulgence. \n\n\n\n\n\n\n\nMost remarkable is the sense of camaraderie and community that permeates. Enthusiasts and aficionados from around the globe come together to share their passion for spirits\, forging connections and friendships that endure long after the event has concluded. It is a gathering of kindred spirits united by their appreciation for the finer things in life and their insatiable thirst for discovery.
URL:https://thirste.com/event/nth-whisky-experience/
LOCATION:Wynn Las Vegas\, 3131 Las Vegas Blvd S\, Las Vegas\, Nevada\, 89109
CATEGORIES:Whiskey
ATTACH;FMTTYPE=image/webp:https://thirste.com/wp-content/uploads/2024/03/Universal_whisky_experience.webp
END:VEVENT
BEGIN:VEVENT
DTSTART;TZID=America/Anchorage:20260424T000000
DTEND;TZID=America/Anchorage:20260425T235959
DTSTAMP:20260424T011754
CREATED:20260129T224809Z
LAST-MODIFIED:20260129T224810Z
UID:4191-1776988800-1777161599@thirste.com
SUMMARY:CA Wine Festival - Dana Point
DESCRIPTION:A Premier Celebration of Wine by the Sea\n\n\n\n2026\n\n\n\n\n\nPicture this: a warm coastal breeze\, the sound of waves crashing against the shore\, and a glass of world-class wine in hand as you soak in the beauty of Southern California’s iconic coastline. Welcome to the California Wine Festival in Dana Point\, a sun-soaked event that brings together the best of wine\, food\, and stunning ocean views for an unforgettable weekend. \n\n\n\nDana Point\, known for its picturesque harbor and laid-back beach town charm\, provides the perfect backdrop for this premier wine event\, offering attendees the chance to savor fine wines while enjoying the breathtaking scenery of Orange County. Whether you’re a seasoned wine aficionado or just beginning to explore the world of wine\, the California Wine Festival in Dana Point promises a spectacular experience that showcases the best of California’s vibrant wine culture. \n\n\n\n\n\n\n\nA Celebration of California’s Finest Wines\n\n\n\nThe California Wine Festival is a celebration that highlights the incredible diversity and craftsmanship of California’s winemakers. Dana Point is one of the most beloved stops on the festival’s calendar\, drawing in both locals and visitors from around the world to indulge in the region’s top wines. \n\n\n\nAt the Dana Point edition of the festival\, attendees are treated to an extensive array of wines from across California’s renowned wine regions. From Napa and Sonoma to Paso Robles and the Central Coast\, you’ll have the chance to sample everything from robust reds and crisp whites to refreshing rosés and sparkling wines. Whether you’re a fan of bold Cabernet Sauvignons\, elegant Pinot Noirs\, or vibrant Chardonnays\, there’s something to please every palate. \n\n\n\nWhat sets the California Wine Festival apart is the careful curation of wineries that participate. You’ll have the opportunity to taste from both established\, well-known wineries and up-and-coming boutique producers\, allowing you to discover new favorites and expand your wine knowledge along the way. Every pour represents the passion and dedication that California winemakers pour into their craft\, and the festival is a testament to the state’s status as one of the world’s premier wine destinations. \n\n\n\n\n\n\n\n\n\n\n\n\n\nA Culinary Adventure\n\n\n\nWine may take center stage at the California Wine Festival\, but the food offerings are just as enticing. The festival features a range of gourmet food vendors and local chefs who craft delicious bites designed to pair perfectly with the wines being poured. From artisanal cheeses and charcuterie boards to freshly prepared seafood and farm-to-table dishes\, the culinary selections are a feast for both the eyes and the taste buds. \n\n\n\nFor those looking to expand their palate even further\, the festival often features craft beer and premium spirits tastings\, ensuring there’s something for everyone to enjoy. Whether you’re in the mood for a crisp IPA\, a smooth whiskey\, or a refreshing cocktail\, you’ll find plenty of options to sip on while you explore the festival grounds. \n\n\n\nThe Perfect Coastal Setting\n\n\n\nFew locations can rival the beauty of Dana Point\, making it the ideal setting for a wine festival that celebrates the best of California’s coastal charm. Located in Orange County\, this seaside town is famous for its scenic harbor\, pristine beaches\, and laid-back atmosphere. The California Wine Festival takes full advantage of Dana Point’s natural beauty by hosting the event outdoors\, where attendees can enjoy ocean views as they sip and savor their way through the day. \n\n\n\nImagine strolling along the festival grounds with a glass of wine in hand\, the sun shining down and the Pacific Ocean shimmering in the background. The coastal breeze and stunning views create a relaxing\, yet festive ambiance\, allowing you to fully immerse yourself in the experience. Whether you’re enjoying a glass of wine with friends or striking up a conversation with a winemaker\, Dana Point’s scenic charm enhances every moment. \n\n\n\n\n\nThe California Wine Festival – Dana Point is a must-attend event for wine lovers\, foodies\, and anyone who appreciates the beauty of California’s coastal lifestyle. With a stunning selection of wines\, delicious food offerings\, live music\, and the unbeatable backdrop of Dana Point’s coastline\, the festival is a celebration of everything that makes California so special. \n\n\n\n\n\n\n\nSUNSET RARE & RESERVE TASTING\n\n\n\nFriday\, April 25\, 2025 – 6:30-9pm \n\n\n\n\n\n\n\nBEACHSIDE WINE FESTIVAL\n\n\n\nSaturday\, April 26\, 2025 – 1-4pm (VIPs 12pm)
URL:https://thirste.com/event/ca-wine-festival-dana-point/
LOCATION:Laguna Cliffs Marriott Resort & Spa\, 25135 Park Lantern\, Dana Point\, California\, 92629
CATEGORIES:California Wine Festival
ATTACH;FMTTYPE=image/png:https://thirste.com/wp-content/uploads/2024/10/california_winw_festival.png
END:VEVENT
END:VCALENDAR