BEGIN:VCALENDAR
VERSION:2.0
PRODID:-//Thirste - ECPv6.15.20//NONSGML v1.0//EN
CALSCALE:GREGORIAN
METHOD:PUBLISH
X-ORIGINAL-URL:https://thirste.com
X-WR-CALDESC:Events for Thirste
REFRESH-INTERVAL;VALUE=DURATION:PT1H
X-Robots-Tag:noindex
X-PUBLISHED-TTL:PT1H
BEGIN:VTIMEZONE
TZID:America/Anchorage
BEGIN:DAYLIGHT
TZOFFSETFROM:-0900
TZOFFSETTO:-0800
TZNAME:AKDT
DTSTART:20250309T110000
END:DAYLIGHT
BEGIN:STANDARD
TZOFFSETFROM:-0800
TZOFFSETTO:-0900
TZNAME:AKST
DTSTART:20251102T100000
END:STANDARD
BEGIN:DAYLIGHT
TZOFFSETFROM:-0900
TZOFFSETTO:-0800
TZNAME:AKDT
DTSTART:20260308T110000
END:DAYLIGHT
BEGIN:STANDARD
TZOFFSETFROM:-0800
TZOFFSETTO:-0900
TZNAME:AKST
DTSTART:20261101T100000
END:STANDARD
BEGIN:DAYLIGHT
TZOFFSETFROM:-0900
TZOFFSETTO:-0800
TZNAME:AKDT
DTSTART:20270314T110000
END:DAYLIGHT
BEGIN:STANDARD
TZOFFSETFROM:-0800
TZOFFSETTO:-0900
TZNAME:AKST
DTSTART:20271107T100000
END:STANDARD
END:VTIMEZONE
BEGIN:VEVENT
DTSTART;TZID=America/Anchorage:20260609T110000
DTEND;TZID=America/Anchorage:20260610T190000
DTSTAMP:20260422T000440
CREATED:20260129T230434Z
LAST-MODIFIED:20260129T230434Z
UID:3286-1781002800-1781118000@thirste.com
SUMMARY:Bar Convent Brooklyn
DESCRIPTION:2026\n\n\n\n\n\nBar Convent Brooklyn (BCB) stands as a vibrant and welcoming community\, uniting trailblazers within the bar and beverage industry to both celebrate and collectively mold the future of the beverage landscape. It serves as a dynamic hub where industry pioneers converge\, fostering an environment of knowledge exchange\, the sharing of best practices\, and the cultivation of valuable business opportunities. Rooted in a deep appreciation and unwavering passion for premium and craft spirits\, Bar Convent Brooklyn becomes a nexus for the latest trends\, innovations\, and the artistry that propels the beverage sector forward. \n\n\n\n\n\n\n\nThis annual event is not just a convention; it’s a melting pot of creativity\, where mixologists\, brand ambassadors\, and industry professionals gather to explore the cutting edge of mixology and beverage craftsmanship. The heart of Bar Convent Brooklyn beats with the pulse of the cocktail movement\, driven by a curated selection of the most exquisite and premium brands that define the pinnacle of quality and distinction in the spirits world. \n\n\n\nBar Convent Brooklyn is a trade-only event exclusively for qualified professionals in the bar and beverage industries. BAR CONVENT BROOKLYN ADMITS ONLY THOSE WHOARE 21 YEARS OR OLDER. \n\n\n\n\n\n\n\n\n\nBeyond the bustling exhibition floor\, Bar Convent Brooklyn is a forum for education\, an arena where seminars and workshops delve into the nuances of mixology\, trends in beverage consumption\, and the ever-evolving market landscape. It’s a space where passion meets expertise\, and where the camaraderie among industry enthusiasts fosters an atmosphere of collaboration\, innovation\, and an unwavering commitment to the pursuit of excellence in the world of spirits. \n\n\n\nBar Convent Brooklyn isn’t just an event; it’s a vital catalyst propelling the beverage industry forward\, a place where tradition meets modernity\, and where the boundless possibilities of mixology are explored with zeal. Whether you’re a seasoned professional or a newcomer to the world of spirits\, this is where connections are made\, knowledge is deepened\, and the future of the beverage industry is shaped.
URL:https://thirste.com/event/bar-convent-brooklyn/
LOCATION:Industry City\, 220 36th St\, Brooklyn\, New York\, 11232
CATEGORIES:Industry Exclusive
ATTACH;FMTTYPE=image/png:https://thirste.com/wp-content/uploads/2023/12/BCB-Bar-convent-brooklyn.png
END:VEVENT
END:VCALENDAR