BEGIN:VCALENDAR
VERSION:2.0
PRODID:-//Thirste - ECPv6.15.20//NONSGML v1.0//EN
CALSCALE:GREGORIAN
METHOD:PUBLISH
X-ORIGINAL-URL:https://thirste.com
X-WR-CALDESC:Events for Thirste
REFRESH-INTERVAL;VALUE=DURATION:PT1H
X-Robots-Tag:noindex
X-PUBLISHED-TTL:PT1H
BEGIN:VTIMEZONE
TZID:America/Anchorage
BEGIN:DAYLIGHT
TZOFFSETFROM:-0900
TZOFFSETTO:-0800
TZNAME:AKDT
DTSTART:20250309T110000
END:DAYLIGHT
BEGIN:STANDARD
TZOFFSETFROM:-0800
TZOFFSETTO:-0900
TZNAME:AKST
DTSTART:20251102T100000
END:STANDARD
BEGIN:DAYLIGHT
TZOFFSETFROM:-0900
TZOFFSETTO:-0800
TZNAME:AKDT
DTSTART:20260308T110000
END:DAYLIGHT
BEGIN:STANDARD
TZOFFSETFROM:-0800
TZOFFSETTO:-0900
TZNAME:AKST
DTSTART:20261101T100000
END:STANDARD
BEGIN:DAYLIGHT
TZOFFSETFROM:-0900
TZOFFSETTO:-0800
TZNAME:AKDT
DTSTART:20270314T110000
END:DAYLIGHT
BEGIN:STANDARD
TZOFFSETFROM:-0800
TZOFFSETTO:-0900
TZNAME:AKST
DTSTART:20271107T100000
END:STANDARD
END:VTIMEZONE
BEGIN:VEVENT
DTSTART;TZID=America/Anchorage:20260912T000000
DTEND;TZID=America/Anchorage:20260912T235959
DTSTAMP:20260424T050640
CREATED:20260131T003225Z
LAST-MODIFIED:20260131T003225Z
UID:5407-1789171200-1789257599@thirste.com
SUMMARY:Tacos and Tequila Festival - St Louis
DESCRIPTION:2026\n\n\n\n\n\nThe Tacos and Tequila Festival in St. Louis is a vibrant celebration where bold tacos\, smooth tequila\, and legendary hip-hop performances come together for an unforgettable experience. This high-energy event brings Mexican-inspired flavors and culture to the Gateway City\, creating a can’t-miss gathering for food and music lovers. \n\n\n\n\n\n\n\nAs guests arrive\, the air fills with the aroma of sizzling meats\, warm tortillas\, and zesty salsas\, while glasses of golden tequila rise to the beat of the music. The atmosphere is electric yet inviting\, blending culinary creativity with St. Louis’s signature hospitality. \n\n\n\nAttendees can explore a diverse taco lineup\, from classic street-style favorites to inventive modern creations\, including flavorful plant-based options. Each bite pairs seamlessly with premium tequilas and expertly crafted cocktails that elevate the tasting journey. \n\n\n\nMore than just a food and drink festival\, the Tacos and Tequila Festival in St. Louis is about connection—bringing people together to enjoy incredible flavors\, iconic music\, and lasting memories in the heart of the city.
URL:https://thirste.com/event/tacos-and-tequila-festival-st-louis/
LOCATION:Carshield Field\, 900 TR Hughes Blvd\, O'Fallon\, Missouri\, 63366
CATEGORIES:Tequila
ATTACH;FMTTYPE=image/webp:https://thirste.com/wp-content/uploads/2026/01/tacos_and_tequila_festival-1.webp
END:VEVENT
END:VCALENDAR