BEGIN:VCALENDAR
VERSION:2.0
PRODID:-//Thirste - ECPv6.15.20//NONSGML v1.0//EN
CALSCALE:GREGORIAN
METHOD:PUBLISH
X-WR-CALNAME:Thirste
X-ORIGINAL-URL:https://thirste.com
X-WR-CALDESC:Events for Thirste
REFRESH-INTERVAL;VALUE=DURATION:PT1H
X-Robots-Tag:noindex
X-PUBLISHED-TTL:PT1H
BEGIN:VTIMEZONE
TZID:America/Anchorage
BEGIN:DAYLIGHT
TZOFFSETFROM:-0900
TZOFFSETTO:-0800
TZNAME:AKDT
DTSTART:20220313T110000
END:DAYLIGHT
BEGIN:STANDARD
TZOFFSETFROM:-0800
TZOFFSETTO:-0900
TZNAME:AKST
DTSTART:20221106T100000
END:STANDARD
BEGIN:DAYLIGHT
TZOFFSETFROM:-0900
TZOFFSETTO:-0800
TZNAME:AKDT
DTSTART:20230312T110000
END:DAYLIGHT
BEGIN:STANDARD
TZOFFSETFROM:-0800
TZOFFSETTO:-0900
TZNAME:AKST
DTSTART:20231105T100000
END:STANDARD
BEGIN:DAYLIGHT
TZOFFSETFROM:-0900
TZOFFSETTO:-0800
TZNAME:AKDT
DTSTART:20240310T110000
END:DAYLIGHT
BEGIN:STANDARD
TZOFFSETFROM:-0800
TZOFFSETTO:-0900
TZNAME:AKST
DTSTART:20241103T100000
END:STANDARD
END:VTIMEZONE
BEGIN:VEVENT
DTSTART;TZID=America/Anchorage:20230520T150000
DTEND;TZID=America/Anchorage:20230520T190000
DTSTAMP:20260422T155844
CREATED:20230508T120028Z
LAST-MODIFIED:20250127T131921Z
UID:2036-1684594800-1684609200@thirste.com
SUMMARY:World Whisky Day PNW
DESCRIPTION:Come celebrate World Whisky Day with Adventures in Whisky and the Ballard Cut! While you converse with some incredible PNW whisky specialists\, you can choose from more than 40 distilleries and more than 100 amazing international whiskies. A Whisky tasting experience unlike any other in the area will be provided for us. With so many fantastic whisky options\, lounge sections\, including the stage sky lounge\, and a stellar DJ Jacqui Ohh keeping us on the dance floor until the next whisky table\, Fremont Studios will be turned into a whisky lover’s paradise.
URL:https://thirste.com/event/world-whisky-day-pnw/
LOCATION:Freemont Studios\, 155 N 35th Street\, Seattle\, Washington\, 98103\, United States
CATEGORIES:Seattle,Whiskey
ATTACH;FMTTYPE=image/jpeg:https://thirste.com/wp-content/uploads/2023/05/seattle-world-whisky-day.jpg
END:VEVENT
BEGIN:VEVENT
DTSTART;TZID=America/Anchorage:20230101T080000
DTEND;TZID=America/Anchorage:20230101T170000
DTSTAMP:20260422T155844
CREATED:20220122T134600Z
LAST-MODIFIED:20250127T132102Z
UID:2604-1672560000-1672592400@thirste.com
SUMMARY:Apres Ski Cocktail Classic
DESCRIPTION:Check Back for 2024 dates
URL:https://thirste.com/event/apres-ski-cocktail-classic/
LOCATION:Washington
CATEGORIES:Cocktail
ATTACH;FMTTYPE=image/jpeg:https://thirste.com/wp-content/uploads/2022/01/Apres-Ski-logo-e1703280371449.jpg
END:VEVENT
END:VCALENDAR