BEGIN:VCALENDAR
VERSION:2.0
PRODID:-//Thirste - ECPv6.15.20//NONSGML v1.0//EN
CALSCALE:GREGORIAN
METHOD:PUBLISH
X-WR-CALNAME:Thirste
X-ORIGINAL-URL:https://thirste.com
X-WR-CALDESC:Events for Thirste
REFRESH-INTERVAL;VALUE=DURATION:PT1H
X-Robots-Tag:noindex
X-PUBLISHED-TTL:PT1H
BEGIN:VTIMEZONE
TZID:America/Anchorage
BEGIN:DAYLIGHT
TZOFFSETFROM:-0900
TZOFFSETTO:-0800
TZNAME:AKDT
DTSTART:20240310T110000
END:DAYLIGHT
BEGIN:STANDARD
TZOFFSETFROM:-0800
TZOFFSETTO:-0900
TZNAME:AKST
DTSTART:20241103T100000
END:STANDARD
BEGIN:DAYLIGHT
TZOFFSETFROM:-0900
TZOFFSETTO:-0800
TZNAME:AKDT
DTSTART:20250309T110000
END:DAYLIGHT
BEGIN:STANDARD
TZOFFSETFROM:-0800
TZOFFSETTO:-0900
TZNAME:AKST
DTSTART:20251102T100000
END:STANDARD
BEGIN:DAYLIGHT
TZOFFSETFROM:-0900
TZOFFSETTO:-0800
TZNAME:AKDT
DTSTART:20260308T110000
END:DAYLIGHT
BEGIN:STANDARD
TZOFFSETFROM:-0800
TZOFFSETTO:-0900
TZNAME:AKST
DTSTART:20261101T100000
END:STANDARD
END:VTIMEZONE
BEGIN:VEVENT
DTSTART;TZID=America/Anchorage:20250301T120000
DTEND;TZID=America/Anchorage:20250301T160000
DTSTAMP:20260422T023801
CREATED:20241201T175931Z
LAST-MODIFIED:20241201T185740Z
UID:4524-1740830400-1740844800@thirste.com
SUMMARY:Naples Craft Beer Fest
DESCRIPTION:Naples Craft Beer Fest\n\n\n\nIf you’re a craft beer enthusiast looking for a festival that combines unique brews\, delicious food\, and a vibrant atmosphere\, the Naples Craft Beer Fest is an event you won’t want to miss. Nestled in the beautiful Gulf Coast city of Naples\, Florida\, this annual festival is a celebration of craft beer artistry and the local culinary scene\, all while supporting a great cause. \n\n\n\n2025\n\n\n\n\n\n\n\nSip\, Savor\, and Celebrate\n\n\n\n\n\n\n\n\n\n\n\n\n\n\n\n\n\n\n\nIf you’re a craft beer enthusiast looking for a festival that combines unique brews\, delicious food\, and a vibrant atmosphere\, the Naples Craft Beer Fest is an event you won’t want to miss. Nestled in the beautiful Gulf Coast city of Naples\, Florida\, this annual festival is a celebration of craft beer artistry and the local culinary scene\, all while supporting a great cause. \n\n\n\nThe Naples Craft Beer Fest brings together beer lovers and food enthusiasts for an unforgettable day of tasting and discovery. Featuring a curated selection of craft breweries from across the country\, the event showcases a diverse range of beer styles\, from hoppy IPAs and rich stouts to crisp lagers and unique sour ales. \n\n\n\n\n\n\n\nthe festival isn’t just about beer. Local restaurants join the festivities by crafting special food pairings to complement the beers on offer\, creating a full sensory experience that celebrates the art of pairing food and brew.
URL:https://thirste.com/event/naples-craft-beer-fest/
LOCATION:Missouri
CATEGORIES:Beer
ATTACH;FMTTYPE=image/png:https://thirste.com/wp-content/uploads/2024/12/naples_craft_beer_festival.png
END:VEVENT
BEGIN:VEVENT
DTSTART;TZID=America/Anchorage:20250305T000000
DTEND;TZID=America/Anchorage:20250309T235959
DTSTAMP:20260422T023801
CREATED:20241006T211146Z
LAST-MODIFIED:20241006T211147Z
UID:3690-1741132800-1741564799@thirste.com
SUMMARY:Charleston Wine and Food Festival
DESCRIPTION:2025\n\n\n\n\n\nThe Charleston Wine + Food Festival is a spectacular event where the realms of food and culture seamlessly converge. This immersive experience is an invitation to indulge in the culinary heartbeat of Charleston\, a city known for its rich heritage and vibrant flavors. \n\n\n\n\n\n\n\nImmerse yourself in a tapestry of culinary delights as renowned chefs\, culinary artists\, and beverage experts come together to celebrate the diverse tapestry of global and local cuisines. From expertly crafted dishes to artisanal beverages\, the festival promises a sensorial exploration that goes beyond the ordinary. \n\n\n\nSavor the essence of local cuisine\, explore international flavors\, and indulge in the creativity of culinary masterminds. Beyond the delectable bites and sips\, the festival offers a platform for cultural exchange\, where food becomes a medium for storytelling\, connection\, and celebration. \n\n\n\nWith a lineup of captivating events\, including chef demonstrations\, wine tastings\, and immersive culinary experiences\, the Charleston Wine + Food Festival is a feast for the senses. Join in this culinary celebration\, where every bite and sip is a journey through the heart and soul of Charleston’s culinary landscape.
URL:https://thirste.com/event/charleston-wine-and-food-festival/
LOCATION:Riverfront Park\, 1061 Everglades Ave\, North Charleston\, South Carolina\, 29405
CATEGORIES:Wine
ATTACH;FMTTYPE=image/png:https://thirste.com/wp-content/uploads/2024/02/Charleston-Wine-and-food.png
END:VEVENT
BEGIN:VEVENT
DTSTART;TZID=America/Anchorage:20250320T180000
DTEND;TZID=America/Anchorage:20250320T210000
DTSTAMP:20260422T023801
CREATED:20250303T220256Z
LAST-MODIFIED:20250303T220257Z
UID:2068-1742493600-1742504400@thirste.com
SUMMARY:WhiskyX Nashville
DESCRIPTION:As you immerse yourself in a world of extraordinary flavors\, take advantage of more than 60 premium whiskey brands. Throughout this extraordinary event\, you will sample the best Bourbon\, American\, Irish\, Scotch\, Rye\, Single Malt\, and other remarkable whiskies. Learn more about whisky in the company of fans and experts while broadening your palette and finding undiscovered gems. Whether you’re a seasoned fan or brand-new to the world of whiskey\, WhiskyX promises to be a memorable celebration of the art and knowledge of premium spirits.
URL:https://thirste.com/event/whiskyx-nashville/
LOCATION:Marathon Music Works\, 1402 Clinton Street\, Nashville\, Tennessee\, 37203\, United States
CATEGORIES:Whiskey
ATTACH;FMTTYPE=image/jpeg:https://thirste.com/wp-content/uploads/2023/05/whiskyx-nashville.jpg
END:VEVENT
BEGIN:VEVENT
DTSTART;TZID=America/Anchorage:20250329T183000
DTEND;TZID=America/Anchorage:20250329T190000
DTSTAMP:20260422T023801
CREATED:20250303T213813Z
LAST-MODIFIED:20250303T213922Z
UID:3681-1743273000-1743274800@thirste.com
SUMMARY:Big Smoke WhiskyFest
DESCRIPTION:Embark on an extraordinary journey with Cigar Aficionado & Whisky Advocate as we present a spectacular one-day event\, an enchanting evening that brings together the finest cigars and whiskies from across the globe! Immerse yourself in an unparalleled experience where an assembly of distinguished cigarmakers\, whisky distillers\, master blenders\, and brand connoisseurs will be in attendance\, generously offering exquisite cigars and whiskies to all enthusiasts present. \n\n\n\n2025\n\n\n\n\n\n\n\n\n\nIndulge in the pleasure of collecting and savoring over 30 meticulously curated cigars\, each a testament to the artistry of cigarmaking. Additionally\, immerse your palate in the richness of an exciting selection of single malt and blended Scotch\, Irish elixirs\, robust bourbons\, characterful ryes\, Tennessee treasures\, elegant Japanese whiskies\, smooth Canadian blends\, and the craftsmanship of various craft-distilled whiskies.
URL:https://thirste.com/event/big-smoke-whiskyfest/
LOCATION:Seminole Hard Rock Hotel and Casino\, 1 Seminole Way\, Hollywood\, Florida\, 33314
CATEGORIES:Whiskey
ATTACH;FMTTYPE=image/jpeg:https://thirste.com/wp-content/uploads/2024/02/big-smoke-whiskyfest-square.jpg
END:VEVENT
END:VCALENDAR