BEGIN:VCALENDAR
VERSION:2.0
PRODID:-//Thirste - ECPv6.15.20//NONSGML v1.0//EN
CALSCALE:GREGORIAN
METHOD:PUBLISH
X-ORIGINAL-URL:https://thirste.com
X-WR-CALDESC:Events for Thirste
REFRESH-INTERVAL;VALUE=DURATION:PT1H
X-Robots-Tag:noindex
X-PUBLISHED-TTL:PT1H
BEGIN:VTIMEZONE
TZID:America/Anchorage
BEGIN:DAYLIGHT
TZOFFSETFROM:-0900
TZOFFSETTO:-0800
TZNAME:AKDT
DTSTART:20240310T110000
END:DAYLIGHT
BEGIN:STANDARD
TZOFFSETFROM:-0800
TZOFFSETTO:-0900
TZNAME:AKST
DTSTART:20241103T100000
END:STANDARD
BEGIN:DAYLIGHT
TZOFFSETFROM:-0900
TZOFFSETTO:-0800
TZNAME:AKDT
DTSTART:20250309T110000
END:DAYLIGHT
BEGIN:STANDARD
TZOFFSETFROM:-0800
TZOFFSETTO:-0900
TZNAME:AKST
DTSTART:20251102T100000
END:STANDARD
BEGIN:DAYLIGHT
TZOFFSETFROM:-0900
TZOFFSETTO:-0800
TZNAME:AKDT
DTSTART:20260308T110000
END:DAYLIGHT
BEGIN:STANDARD
TZOFFSETFROM:-0800
TZOFFSETTO:-0900
TZNAME:AKST
DTSTART:20261101T100000
END:STANDARD
END:VTIMEZONE
BEGIN:VEVENT
DTSTART;TZID=America/Anchorage:20250412T133000
DTEND;TZID=America/Anchorage:20250412T190000
DTSTAMP:20260422T042453
CREATED:20250303T213641Z
LAST-MODIFIED:20250303T213641Z
UID:1357-1744464600-1744484400@thirste.com
SUMMARY:Big Texas Beer Fest
DESCRIPTION:The Big Texas Beer Fest is Dallas’ original beer festival. It started in 2011 and it is still happening each year. The first festival dedicated to craft beer and still one of the best in the state of Texas. Big Texas Beer Fest takes place in April\, at the Fair Park Automobile Building. Featuring 100+ breweries and 500+ beers\, ciders\, hard seltzers\, hard kombuchas\, meads\, and more. \n\n\n\n2025\n\n\n\n\n\nBTBF is well-known as the festival to go to for exclusive and rare beers\, one-offs\, and special beers you can’t find on store shelves. Since brewers never know when beers will be ready\, they release the beer list about 1 week before the event.
URL:https://thirste.com/event/big-texas-beer-fest/
LOCATION:Fair Park Automobile Building\, 1010 1st Ave\, Dallas\, Texas\, 75210\, United States
CATEGORIES:Beer
ATTACH;FMTTYPE=image/webp:https://thirste.com/wp-content/uploads/2023/03/BTBF-Dallas.webp
END:VEVENT
END:VCALENDAR