BEGIN:VCALENDAR
VERSION:2.0
PRODID:-//Thirste - ECPv6.15.20//NONSGML v1.0//EN
CALSCALE:GREGORIAN
METHOD:PUBLISH
X-ORIGINAL-URL:https://thirste.com
X-WR-CALDESC:Events for Thirste
REFRESH-INTERVAL;VALUE=DURATION:PT1H
X-Robots-Tag:noindex
X-PUBLISHED-TTL:PT1H
BEGIN:VTIMEZONE
TZID:America/Anchorage
BEGIN:DAYLIGHT
TZOFFSETFROM:-0900
TZOFFSETTO:-0800
TZNAME:AKDT
DTSTART:20240310T110000
END:DAYLIGHT
BEGIN:STANDARD
TZOFFSETFROM:-0800
TZOFFSETTO:-0900
TZNAME:AKST
DTSTART:20241103T100000
END:STANDARD
BEGIN:DAYLIGHT
TZOFFSETFROM:-0900
TZOFFSETTO:-0800
TZNAME:AKDT
DTSTART:20250309T110000
END:DAYLIGHT
BEGIN:STANDARD
TZOFFSETFROM:-0800
TZOFFSETTO:-0900
TZNAME:AKST
DTSTART:20251102T100000
END:STANDARD
BEGIN:DAYLIGHT
TZOFFSETFROM:-0900
TZOFFSETTO:-0800
TZNAME:AKDT
DTSTART:20260308T110000
END:DAYLIGHT
BEGIN:STANDARD
TZOFFSETFROM:-0800
TZOFFSETTO:-0900
TZNAME:AKST
DTSTART:20261101T100000
END:STANDARD
END:VTIMEZONE
BEGIN:VEVENT
DTSTART;TZID=America/Anchorage:20250507T000000
DTEND;TZID=America/Anchorage:20250508T235959
DTSTAMP:20260422T060333
CREATED:20241014T192435Z
LAST-MODIFIED:20241031T130414Z
UID:2530-1746576000-1746748799@thirste.com
SUMMARY:Drinks America
DESCRIPTION:Industry Exclusive Event\n\n\n\n\n\nEnter the world of excellence at Vinexpo America and Drinks America\, two outstanding events that are taking place simultaneously and are bringing the beverage and alcohol industries closer than ever. These expos provide an unrivaled opportunity to examine the best products from the wine and spirits worlds by seamlessly merging under one roof. The greatest wines from all of the world’s leading wine-producing regions are showcased at Vinexpo America\, which is solely focused on wines. This event promises a comprehensive representation of the wine universe\, from vintages that have stood the test of time to creative blends. \n\n\n\nDrinks America has a focus on the rising demand for alcoholic beverages and ready-to-drink cocktails. This exhibition\, created in response to the anticipated increase in consumption\, features an excellent selection of spirits\, beers\, and sake from manufacturers throughout the world. In one alluring location\, sip on rare whiskies\, taste handcrafted gins\, and discover the various flavors of international sake. \n\n\n\nBeyond the libations\, both events feature a carefully curated range of beverage alcohol accessories\, bar tools\, and services. Professionals in the industry will gain essential knowledge and make connections with like-minded professionals. Expand your network and learn invaluable knowledge to advance your career.
URL:https://thirste.com/event/drinks-america/
LOCATION:Javits Center\, 429 11th Ave\, New York\, New York\, 10001
CATEGORIES:Industry Exclusive
ATTACH;FMTTYPE=image/jpeg:https://thirste.com/wp-content/uploads/2024/10/drinks_america.jpg
END:VEVENT
BEGIN:VEVENT
DTSTART;TZID=America/Anchorage:20250508T180000
DTEND;TZID=America/Anchorage:20250508T210000
DTSTAMP:20260422T060333
CREATED:20250303T220137Z
LAST-MODIFIED:20250303T220137Z
UID:2062-1746727200-1746738000@thirste.com
SUMMARY:Whisky X Denver
DESCRIPTION:Enjoy over 60 renowned whiskey brands as you immerse yourself in a world of exceptional flavors. You will go through the finest selections of Bourbon\, American\, Irish\, Scotch\, Rye\, Single Malt\, and other remarkable whiskies throughout this extraordinary event. In the company of whiskey enthusiasts and experts\, enhance your knowledge while expanding your palate and discovering hidden jewels. WhiskyX promises a memorable celebration of the art and expertise behind premium spirits\, whether you’re a seasoned enthusiast or new to the world of whiskey.
URL:https://thirste.com/event/whisky-x-denver/
LOCATION:The Brighton\, 3403 Brighton Blvd\, Denver\, Colorado\, 80216
CATEGORIES:Whiskey
ATTACH;FMTTYPE=image/jpeg:https://thirste.com/wp-content/uploads/2023/05/whiskyx-denver.jpg
END:VEVENT
BEGIN:VEVENT
DTSTART;TZID=America/Anchorage:20250517T000000
DTEND;TZID=America/Anchorage:20250517T235959
DTSTAMP:20260422T060333
CREATED:20250308T213512Z
LAST-MODIFIED:20250308T213513Z
UID:3206-1747440000-1747526399@thirste.com
SUMMARY:Tacos and Tequila Dallas - Fort Worth
DESCRIPTION:2024\n\n\n\n\n\nThe Tacos and Tequila Festival in Dallas-Fort Worth is a vibrant celebration of two of life’s greatest pleasures – delectable tacos and the smooth\, spirited embrace of tequila. Along with legends of hip hop. It’s an event that promises to ignite your taste buds and transport your senses to the heart of Mexico\, all while nestled in the heart of the Dallas-Fort Worth area. \n\n\n\n\n\n\n\nPicture this: a lively gathering where the tantalizing aroma of sizzling meats and zesty salsas wafts through the air\, and the clinking of glasses filled with golden tequila resounds in harmony with laughter and merriment. The Tacos and Tequila Festival is where culinary artistry meets the warmth of hospitality\, creating an unforgettable experience for all who attend. \n\n\n\nAt this festival\, you’ll find yourself on a culinary journey\, exploring the multifaceted world of tacos. Traditional or with a modern twist\, from mouthwatering carne asada to vegan delights\, there’s a taco to suit every palate. And\, of course\, to complement these flavorful bites\, you’ll encounter a selection of premium tequilas and expertly crafted cocktails that elevate your tasting adventure. \n\n\n\nIt’s not just about the food and drinks; it’s about the atmosphere. The Tacos and Tequila Festival in Dallas-Fort Worth is a gathering of kindred spirits\, a place where you can mingle with fellow food and drink enthusiasts\, exchange stories\, and create new memories.
URL:https://thirste.com/event/tacos-and-tequila-dallas-fort-worth/
LOCATION:Panther Island Pavilion\, 395 Purcey St\, Fort Worth\, Texas\, 76102
CATEGORIES:Tequila
ATTACH;FMTTYPE=image/jpeg:https://thirste.com/wp-content/uploads/2023/10/dallas-taco-tequila-festival-fort-worth.jpg
END:VEVENT
END:VCALENDAR