BEGIN:VCALENDAR
VERSION:2.0
PRODID:-//Thirste - ECPv6.15.20//NONSGML v1.0//EN
CALSCALE:GREGORIAN
METHOD:PUBLISH
X-ORIGINAL-URL:https://thirste.com
X-WR-CALDESC:Events for Thirste
REFRESH-INTERVAL;VALUE=DURATION:PT1H
X-Robots-Tag:noindex
X-PUBLISHED-TTL:PT1H
BEGIN:VTIMEZONE
TZID:America/Anchorage
BEGIN:DAYLIGHT
TZOFFSETFROM:-0900
TZOFFSETTO:-0800
TZNAME:AKDT
DTSTART:20250309T110000
END:DAYLIGHT
BEGIN:STANDARD
TZOFFSETFROM:-0800
TZOFFSETTO:-0900
TZNAME:AKST
DTSTART:20251102T100000
END:STANDARD
BEGIN:DAYLIGHT
TZOFFSETFROM:-0900
TZOFFSETTO:-0800
TZNAME:AKDT
DTSTART:20260308T110000
END:DAYLIGHT
BEGIN:STANDARD
TZOFFSETFROM:-0800
TZOFFSETTO:-0900
TZNAME:AKST
DTSTART:20261101T100000
END:STANDARD
BEGIN:DAYLIGHT
TZOFFSETFROM:-0900
TZOFFSETTO:-0800
TZNAME:AKDT
DTSTART:20270314T110000
END:DAYLIGHT
BEGIN:STANDARD
TZOFFSETFROM:-0800
TZOFFSETTO:-0900
TZNAME:AKST
DTSTART:20271107T100000
END:STANDARD
END:VTIMEZONE
BEGIN:VEVENT
DTSTART;TZID=America/Anchorage:20260128T000000
DTEND;TZID=America/Anchorage:20260201T235959
DTSTAMP:20260422T000440
CREATED:20251101T145221Z
LAST-MODIFIED:20251101T145222Z
UID:1958-1769558400-1769990399@thirste.com
SUMMARY:Key West Food and Wine Festival
DESCRIPTION:  \n\n\n\n\n\n\n\n2026\n\n\n\n\n\nThe Key West Food and Wine Festival is not your average stuffy wine event. The festival spotlights local chefs\, indigenous Florida Keys ingredients\, and a diverse range of premium spirits at this iconic island location \n\n\n\n\n\n\n\n\n\n\n\nThe Key West Food and Wine Festival is an annual celebration of the vibrant food and drink scene in Key West\, Florida. The festival features a range of culinary events\, including wine tastings\, cooking demonstrations\, and gourmet dinners\, all held against the stunning backdrop of the Florida Keys. Visitors can sample the best of Key West’s cuisine\, from fresh seafood and local produce\, with fine wines from around the world. The festival attracts foodies and wine lovers from around the world\, making it a must-visit event for anyone interested in the culinary arts.
URL:https://thirste.com/event/key-west-food-and-wine-festival/
LOCATION:Duval Street\, Duval Street\, Key West\, Florida\, 33040\, United States
CATEGORIES:Wine
ATTACH;FMTTYPE=image/jpeg:https://thirste.com/wp-content/uploads/2023/03/event-key-west-food-wine-festival-logo.jpg
END:VEVENT
BEGIN:VEVENT
DTSTART;TZID=America/Anchorage:20260207T150000
DTEND;TZID=America/Anchorage:20260207T190000
DTSTAMP:20260422T000440
CREATED:20260129T192847Z
LAST-MODIFIED:20260129T192848Z
UID:3304-1770476400-1770490800@thirste.com
SUMMARY:Whiskey Riot - Tampa Bay
DESCRIPTION:Welcome to Tampa Bay Whiskey Riot: A Festival of Whiskeys\, an immersive journey into the expansive world of whiskey. In this realm where choices are abundant\, stepping into the whiskey universe might seem like a daunting venture. Fear not; this festival is not just an event but a curated experience designed to demystify\, enlighten\, and\, most importantly\, celebrate the art of whiskey. \n\n\n\n2026\n\n\n\n\n\n\n\n\n\nImagine sampling from a selection of hundreds of whiskeys\, each with its own unique story\, flavor profile\, and craftsmanship. At Whiskey Riot\, go beyond the pour\, take part in seminars and join an atmosphere where you can engage in captivating conversations with fellow whiskey enthusiasts\, distillers\, and brand founders. These interactions are more than just exchanges; they’re opportunities to glean insights\, expand your palate\, and build connections with the people behind the spirits. \n\n\n\nWhether you are a seasoned Whiskey Lover\, someone Whiskey Curious looking to explore the nuances\, an enthusiastic Whiskey Aficionado seeking rare finds\, or even a Whiskey Rookie just starting the journey\, Whiskey Riot caters to all. The spectrum of samplings\, seminars\, and engaging conversations is tailored to arm you with the knowledge and confidence needed to navigate the world of whiskey with flair.
URL:https://thirste.com/event/whiskey-riot-tampa-bay/
LOCATION:The Coliseum\, 535 4th Ave N. Street\, St. Petersburg\, Florida\, 33701
CATEGORIES:Whiskey
ATTACH;FMTTYPE=image/png:https://thirste.com/wp-content/uploads/2023/12/whiskey_riot_logo_tampa_bay.png
END:VEVENT
BEGIN:VEVENT
DTSTART;TZID=America/Anchorage:20260221T000000
DTEND;TZID=America/Anchorage:20260222T235959
DTSTAMP:20260422T000440
CREATED:20251212T183847Z
LAST-MODIFIED:20251212T183848Z
UID:4793-1771632000-1771804799@thirste.com
SUMMARY:ilani BrewFest
DESCRIPTION:2026\n\n\n\nBeer lovers\, get ready for one of the Pacific Northwest’s premier beer festivals—the ilani BrewFest! Held at the stunning ilani Resort & Casino\, this multi-day celebration brings together some of the finest craft breweries\, cider makers\, and distillers for an unforgettable weekend of tastings\, food pairings\, and live entertainment. Whether you’re a seasoned beer connoisseur or just looking to explore new flavors\, ilani BrewFest is the perfect place to indulge in the best the brewing world has to offer. \n\n\n\n\n\n\n\n\n\n\n\nA Beer Lover’s Paradise\n\n\n\nAt ilani BrewFest\, you’ll have the chance to sample an impressive selection of local\, regional\, and national craft beers\, along with a variety of ciders\, seltzers\, and spirits. Featuring dozens of top-tier breweries\, this event is a dream come true for anyone who appreciates a well-crafted brew. Expect everything from hoppy IPAs and smooth stouts to crisp lagers and fruity ciders\, ensuring there’s something for every taste preference. \n\n\n\nLooking to expand your beer knowledge? The festival also offers educational tastings and expert-led sessions\, where brewers and industry pros share their insights on brewing techniques\, flavor profiles\, and the art of craft beer. \n\n\n\n\n\n\n\nMore Than Just Beer: Food\, Fun\, and Live Entertainment\n\n\n\nGreat beer deserves great food\, and ilani BrewFest delivers with a lineup of incredible food vendors and pairings designed to complement your favorite brews. Indulge in delicious bites from ilani’s renowned restaurants and pop-up eateries\, featuring everything from savory barbecue and gourmet burgers to decadent desserts that enhance the festival experience. \n\n\n\nAnd what’s a beer festival without some live music and entertainment? Enjoy performances from local bands and DJs\, creating the perfect backdrop for a weekend of sipping\, savoring\, and celebrating. \n\n\n\n\n\n\n\nWhat to Expect at ilani BrewFest:\n\n\n\n✔ Dozens of breweries\, cideries\, and distilleries offering samples✔ Educational tastings and insights from brewing experts✔ Delicious food pairings from ilani’s top restaurants and vendors✔ Live music and entertainment throughout the event✔ A vibrant festival atmosphere at one of the Pacific Northwest’s top resorts \n\n\n\n\n\n\n\nPlan Your Visit\n\n\n\nThe ilani BrewFest is more than just a beer festival—it’s a celebration of craft brewing\, culinary excellence\, and community. Located at ilani Resort & Casino\, the event offers the perfect opportunity to stay\, play\, and enjoy everything the resort has to offer\, from gaming and dining to luxurious accommodations. \n\n\n\nWhether you’re looking to discover new craft favorites\, learn from expert brewers\, or simply enjoy an incredible beer-filled weekend with friends\, ilani BrewFest is the place to be.
URL:https://thirste.com/event/ilani-brewfest/
LOCATION:Ilani Resort\, 1 Cowlitz Way\, Ridgefield\, Washington\, 98642
CATEGORIES:Beer
ATTACH;FMTTYPE=image/webp:https://thirste.com/wp-content/uploads/2025/02/ilani_brewfest.webp
END:VEVENT
BEGIN:VEVENT
DTSTART;TZID=America/Anchorage:20260221T150000
DTEND;TZID=America/Anchorage:20260221T160000
DTSTAMP:20260422T000440
CREATED:20251212T223700Z
LAST-MODIFIED:20251212T223701Z
UID:5268-1771686000-1771689600@thirste.com
SUMMARY:Ilani Tequila and Taco Bites
DESCRIPTION:Some pairings are timeless. Tequila and tacos happen to be one of them. At Ilani Tequila & Taco Bites\, this classic duo is elevated into an intimate tasting designed for guests who appreciate bold flavors\, thoughtful craftsmanship\, and a little indulgence along the way. \n\n\n\n\n\n\n\nPremium Tequila\n\n\n\n\n\n\n\nThe tasting showcases premium tequilas\, each selected for its distinct character and balance. From bright\, agave-forward expressions to smoother\, more rounded pours\, every tequila tells its own story. \n\n\n\nEach standard ticket includes six drink sample punches\, allowing guests to explore a range of styles without committing to a full pour. It’s just enough to notice the nuances—the peppery finish here\, a touch of vanilla there—while keeping the experience relaxed and social. \n\n\n\nTaco Bites\n\n\n\n\n\n\n\nOf course\, tequila shines brightest when paired with food that can keep up. \n\n\n\nEach taco is crafted to complement the tequilas being poured—rich\, savory\, and thoughtfully balanced. The flavors are bold without overpowering\, designed to enhance the tasting rather than compete with it. \n\n\n\nTogether\, the tequilas and tacos create a rhythm: sip\, bite\, pause\, repeat.
URL:https://thirste.com/event/ilani-tequila-and-taco-bites/
LOCATION:Ilani Resort\, 1 Cowlitz Way\, Ridgefield\, Washington\, 98642
CATEGORIES:Tequila
ATTACH;FMTTYPE=image/webp:https://thirste.com/wp-content/uploads/2025/12/ilani_tequila_and_taco_bites.webp
END:VEVENT
BEGIN:VEVENT
DTSTART;TZID=America/Anchorage:20260221T150000
DTEND;TZID=America/Anchorage:20260221T190000
DTSTAMP:20260422T000440
CREATED:20251101T154955Z
LAST-MODIFIED:20251101T155045Z
UID:3314-1771686000-1771700400@thirste.com
SUMMARY:Whiskey Riot - Buffalo
DESCRIPTION:Welcome to Whiskey Riot: A Festival of Whiskeys\, an immersive journey into the expansive world of whiskey right here in Buffalo\, NY. In a city known for its rich history and vibrant culture\, this festival is more than an event; it’s a curated experience designed to demystify\, enlighten\, and celebrate the art of whiskey in the heart of Buffalo. \n\n\n\n2026\n\n\n\n\n\n\n\n\n\nImagine sampling from a selection of hundreds of whiskeys\, each with its own unique story\, flavor profile\, and craftsmanship. At Whiskey Riot Buffalo\, go beyond the pour\, take part in enriching seminars and join an atmosphere where you can engage in captivating conversations with fellow whiskey enthusiasts\, distillers\, and brand founders. These interactions are more than just exchanges; they’re opportunities to glean insights\, expand your palate\, and build connections with the people behind the spirits. \n\n\n\nThe Whiskey Riot festival is your passport to whiskey expertise right here in Buffalo. Whether you’re a seasoned Whiskey Lover\, someone Whiskey Curious looking to explore the nuances\, an enthusiastic Whiskey Aficionado seeking rare finds\, or even a Whiskey Rookie just starting the journey\, Whiskey Riot Buffalo caters to all. The spectrum of samplings\, seminars\, and engaging conversations is tailored to arm you with the knowledge and confidence needed to navigate the world of whiskey with flair.
URL:https://thirste.com/event/whiskey-riot-buffalo/
LOCATION:The Powerhouse\, 140 Lee Street\, Baffalo\, New York\, 14210
CATEGORIES:Whiskey
ATTACH;FMTTYPE=image/png:https://thirste.com/wp-content/uploads/2023/12/whiskey_riot_logo_buffalo.png
END:VEVENT
BEGIN:VEVENT
DTSTART;TZID=America/Anchorage:20260225T000000
DTEND;TZID=America/Anchorage:20260228T235959
DTSTAMP:20260422T000440
CREATED:20251101T155237Z
LAST-MODIFIED:20260127T220120Z
UID:4305-1771977600-1772323199@thirste.com
SUMMARY:Bourbon Classic
DESCRIPTION:One of the Top Bourbon Events\n\n\n\nThe Bourbon Classic is a premier event that brings together the very best of bourbon\, cocktails\, and culinary arts in one unforgettable experience. Designed for both connoisseurs and enthusiasts\, this annual gathering features a series of interactive events that offer the perfect blend of bourbon education\, tastings\, and world-class cuisine. \n\n\n\n2026\n\n\n\n\n\n\n\n\n\n\n\n\n\n\n\n\n\n\n\n\n\nCulinary\, Cocktail and Bourbon\n\n\n\nAt the heart of the Bourbon Classic are its signature events\, such as the Cocktail & Culinary Challenge\, where top bartenders and chefs come together to create innovative cocktails and small plates that complement the flavors of bourbon. For those looking to dive deeper into the history and craftsmanship of this beloved spirit\, the Bourbon University offers educational sessions covering everything from distilling techniques to tasting notes. Finally\, the TASTE event gives guests the rare opportunity to sample a wide array of bourbons\, meet renowned master distillers\, and enjoy gourmet dishes from some of the finest restaurants. \n\n\n\nSince its launch in 2013\, the Bourbon Classic has quickly gained a reputation as one of the top bourbon events in the country. It was honored by Travel & Leisure as one of the “7 Best Cocktail Festivals Around the Country” and received national recognition in USA Today for its cocktail competitions. With its unique blend of hands-on experiences\, exceptional tastings\, and educational sessions\, the Bourbon Classic truly offers a bourbon experience like no other. Whether you’re a seasoned bourbon lover or just beginning your journey\, this event is one you won’t want to miss.
URL:https://thirste.com/event/bourbon-classic/
LOCATION:Kentucky International Convention Center\, 221 S. 4th St.\, Louisville\, Kentucky\, 40202
CATEGORIES:Whiskey
ATTACH;FMTTYPE=image/webp:https://thirste.com/wp-content/uploads/2024/10/bourbon_classic_logo.webp
END:VEVENT
BEGIN:VEVENT
DTSTART;TZID=America/Anchorage:20260227T000000
DTEND;TZID=America/Anchorage:20260302T235959
DTSTAMP:20260422T000440
CREATED:20251101T155418Z
LAST-MODIFIED:20251101T155418Z
UID:2602-1772150400-1772495999@thirste.com
SUMMARY:Arizona Cocktail Weekend
DESCRIPTION:Arizona Cocktail Weekend unfurls its splendor across three unforgettable evenings\, transforming Phoenix AZ into a spirited haven for cocktail aficionados. As the premier brands in the industry take center stage\, the city comes alive with a kaleidoscope of events ranging from brand-driven happy hours and parties to enlightening educational seminars adorned with craft cocktails\, camaraderie\, and memories destined to linger. \n\n\n\n2026\n\n\n\n\n\n\n\n\n\nIn the heart of the action are the three crowning jewels of the weekend: Cocktail Carnival\, Top Bars\, and Last Slinger. Cocktail Carnival\, a vibrant fiesta of mixology\, beckoned attendees into a world where creativity knew no bounds. Amidst carnival lights and laughter\, master mixologists showcased their craft\, concocting libations that transcended the ordinary. \n\n\n\nAmidst these signature events\, the best brands in the industry aren’t merely showcasing spirits; they are weaving narratives\, engaging in conversations\, and forging connections with a community that shares a profound appreciation for the art of mixology. Arizona Cocktail Weekend isn’t just an event; it’s a symposium of taste\, an exploration of craft\, and a testament to the vibrant spirit that defines Phoenix’s cocktail scene. \n\n\n\nAcross nearly a week\, attendees are treated to a packed schedule featuring exclusive happy hours\, brand-driven parties\, and an array of educational seminars where industry experts dive deep into the art and science of crafting exceptional cocktails. Each day offers something new\, from hands-on workshops and tasting sessions to dazzling evening events that showcase Phoenix’s rich and innovative cocktail scene. \n\n\n\nWhether you’re a curious newcomer or a seasoned connoisseur\, Arizona Cocktail Weekend is designed to create lasting memories and connections. Enjoy expertly crafted cocktails\, meet the masters behind your favorite brands\, and immerse yourself in the camaraderie of this spirited gathering. It’s a chance to savor\, learn\, and celebrate in the company of fellow cocktail enthusiasts\, all while discovering the dynamic and creative world of mixology that Arizona has to offer.
URL:https://thirste.com/event/arizona-cocktail-weekend/
LOCATION:Phoenix Arizona\, Phoenix\, Arizona\, 85006
CATEGORIES:Cocktail,Cocktail Week
ATTACH;FMTTYPE=image/jpeg:https://thirste.com/wp-content/uploads/2022/01/Araona-Cocktail-Week.jpg
END:VEVENT
BEGIN:VEVENT
DTSTART;TZID=America/Anchorage:20260228T080000
DTEND;TZID=America/Anchorage:20260228T170000
DTSTAMP:20260422T000440
CREATED:20251101T153256Z
LAST-MODIFIED:20251101T153256Z
UID:3197-1772265600-1772298000@thirste.com
SUMMARY:Philly Bierfest
DESCRIPTION:Dive into the Lager-Love: Philly Bierfest — Philadelphia’s Craft Beer Celebration \n\n\n\n\n\n\n\n\n\n\n\n\n\n\n\n\n\n\n\nPhilly Bierfest is a festival where community\, culture\, and craft converge\n\n\n\nIf you’re a beer aficionado\, a lover of craft brews\, or simply someone who enjoys a great festival with lively vibes\, then the name Philly Bierfest should already be on your radar. This event marries the rich heritage of German-style brewing with the dynamic craft beer scene of Pennsylvania. Expect lagers\, weizens\, kölsches\, bocks\, live music\, and a communal spirit that celebrates both tradition and innovation. More than just another gathering\, Philly Bierfest is a festival where community\, culture\, and craft converge. \n\n\n\n\n\n\n\n1. What is Philly Bierfest?\n\n\n\nThe festival is the brainchild of German Society of Pennsylvania in partnership with Philly Roller Derby and Brewers of Pennsylvania. It’s held annually in Philadelphia and emphasizes lagers and German-style beers from Pennsylvania breweries and direct imports from Germany. \n\n\n\nHere are the key details you’ll want to know: \n\n\n\n\nThe event is lager-centric\, focusing on styles such as weizens\, kölsches\, bocks\, dunkels\, and more. \n\n\n\nIt features two beer halls (one dedicated to Pennsylvania craft breweries\, one to German imports) plus an outdoor biergarten and multiple floors of themed spaces.\n\n\n\nProceeds support local non-profits: German Society of Pennsylvania\, Philly Roller Derby\, and Brewers of Pennsylvania.\n\n\n\n\nSo\, Philly Bierfest isn’t just another beer fest—it’s a curated cultural experience\, steeped in heritage\, and built to showcase both craftsmanship and community. \n\n\n\n\n\n\n\n2. Why It’s Worth Attending\n\n\n\nUnique Niche: German-Style meets Craft\n\n\n\nUnlike many craft beer festivals that focus on IPAs\, sours or hazy ales\, Philly Bierfest leans into German-style brewing traditions—especially lagers\, weizens\, bocks—which are less ubiquitous yet deeply rich in history. \n\n\n\nPennsylvania Craft Breweries Shine\n\n\n\nYou’ll find over 20 Pennsylvania breweries pouring German-style lagers\, dunkels\, schwarzbiers and more\, giving you the chance to explore craft beer from a fresh angle. \n\n\n\nGerman Imports & Authenticity\n\n\n\nBeyond local breweries\, the festival also brings in authentic German beers brewed under the “Reinheitsgebot” beer-purity law\, and a wide selection of imports from Germany’s famed houses.  \n\n\n\nMore than Beer – It’s an Experience\n\n\n\nLive music\, themed floors\, outdoor biergarten\, arm-wrestling and masskrugstemmen (beer-mug lifting) bring energy\, fun and a festival-type feel\, rather than just a tasting event. \n\n\n\nAll of this adds up to more than “just another beer festival” — it’s a festival that honors heritage\, celebrates craft\, and invites you into a community of beer lovers. \n\n\n\n\n\n\n\n\n\n\n\n3. What to Expect on the Ground\n\n\n\nA Walkthrough Experience\n\n\n\n\nEntry & WristbandUpon arrival you’ll check in\, receive your tasting glass (often if you’re VIP\, a keepsake mug) and wristband/cup for sampling.\n\n\n\nThe PA Beer HallA great first stop: sample Pennsylvania-brewed lagers\, weizens\, dunkels etc. Learn about how local craft breweries are re-interpreting German styles.\n\n\n\nThe German Beer HallUpstairs or in a separate area: imported German beers\, rare styles\, perhaps lower alcohol or no-alcohol German selections.\n\n\n\nOutdoor Biergarten & Additional FloorsFor fresh air\, relaxed chats\, food\, live music. Six floors means you can zig-zag between louder music zones and quieter tasting zones.\n\n\n\nActivitiesEngage with fun event extras: masskrugstemmen (lifting a liter mug with one arm)\, roller-derby arm-wrestling\, schuhplattler dancing demonstrations\, “beer-lesque” shows. It’s playful and participatory. \n\n\n\nFood & PairingsA festival like this will include food vendors or stations to help balance the beers. Expect German-style finger food\, perhaps local twists.\n\n\n\nCommunity & Story-tellingThe vibe is educational too—you’ll learn about Pennsylvania’s brewing heritage\, German immigration influence\, and how the craft beer scene leverages that legacy.\n\n\n\n\nWhy This Festival Stands Out\n\n\n\nBecause it brings together: \n\n\n\n\nCraft Beer (the local breweries)\n\n\n\nHeritage/Lager-Tradition (German style\, less crowded than IPA-centric fests)\n\n\n\nFestival Energy (live music\, activities\, themed floors)\n\n\n\n\nIf you’re used to festivals where you just wander booths and taste IPAs\, this one offers a deeper story and a specialized focus. \n\n\n\n\n\n\n\n4. How to Prepare: Tips for Maximum Enjoyment\n\n\n\nHere are some practical suggestions to get the most out of Philly Bierfest. \n\n\n\n\nBuy your ticket early: VIPs sell out\, and with early access you’ll get a lower-crowd starting point.\n\n\n\nArrive early: Even general admission benefits from early arrival (lines\, first pours\, less fatigue).\n\n\n\nBring ID: 21+ only for beer sampling.\n\n\n\nPlan your route: Start with lighter styles (weizens\, kölsches) and progress to heavier ones (bocks\, dunkels) so your palate isn’t wiped out too early.\n\n\n\nStay hydrated & eat: Make sure to eat before and during. Beer fatiguing comes fast if you skip. There’s food\, but having a snack beforehand helps.\n\n\n\nBring a note-taking method: Many breweries will serve one-off or limited beers; jot down your favourites.\n\n\n\nSet a sampling limit: Decide ahead how many pours you’ll try\, so you can taste intentionally rather than get overwhelmed.\n\n\n\nPick one or two breweries to really talk with: The craft-beer side gives you a chance to interact with brewers\, ask about process\, German-style brewing in PA.\n\n\n\nDress for comfort: Multi-floor venue plus potentially outdoor biergarten. Comfortable shoes\, layers in case temperature shifts.\n\n\n\nStay for the ambiance: Don’t just sample and leave—explore the themed floors\, watch a show\, enjoy music.\n\n\n\nDesignate a sober ride home: If you’re sampling a lot\, plan ahead for safe transportation.\n\n\n\n\n\n\n\n\n5. Sample Beers & Breweries to Look Out For\n\n\n\nWhile the full list changes yearly\, here are flavors and regional players to watch for: \n\n\n\n\nGerman imports: Pilsners\, Märzens\, Doppelbocks\, Schwarzbiers – many brewed under the German “Reinheitsgebot” purity law.\n\n\n\nPennsylvania craft breweries: The event lists include names like Yards Brewing Company\, Tired Hands Brewing Co.\, Dock Street Brewing Co. among others.\n\n\n\nStyle exploration:\n\nKölsches: crisp\, light\, German-style ale.\n\n\n\nWeizens: wheat beers\, fruity/clovey yeast character.\n\n\n\nDunkels & Schwarzbiers: darker\, malt-forward\, yet still lager-leaning.\n\n\n\nDoppelbocks: stronger\, richer\, for the later rounds.\n\n\n\n\n\nKeep an open mind: Because this festival is more than IPAs\, you might find hidden gems you wouldn’t try otherwise.\n\n\n\n\n\n\n\n\n6. Festival Logistics & Travel Tips\n\n\n\n\nGetting there: The venue is centrally located in Philadelphia; public transit or ride-share might save hassles.\n\n\n\nParking: If driving\, check ahead for parking or consider a nearby hotel stay.\n\n\n\nAccommodation: If you’re coming from outside Philly\, booking a hotel near Center City can make the experience smoother (and extend the weekend!).\n\n\n\nWeather & Timing: Since it’s a winter event (late February)\, dress warmly and be mindful of indoor-outdoor transitions (e.g.\, outdoor biergarten).\n\n\n\nFood & Snacks: Bring some cash or card to buy food at the event; eating helps balance your sampling.\n\n\n\nDesignated Driver / Non-Drinker: If you’re attending but not sampling\, many festivals offer a lower-cost “non-drinker” option. Plan ahead.\n\n\n\nCapturing the moment: Bring a camera or phone\, but also live in the moment—some of the themed activities and visuals are unique and worth experiencing.\n\n\n\nAfter the festival: Consider exploring other craft beer stops in Philadelphia—your tasting at Bierfest might inspire a brewery-hop the next day.\n\n\n\n\n\n\n\n\nIf you’re looking for a festival experience in Philadelphia that’s deeply rooted in craft beer culture—especially the German-style brewing tradition—then Philly Bierfest is a stand-out. Whether you’re a seasoned beer enthusiast or a curious newcomer\, this event offers a rich palette of flavours\, a festive environment\, and an opportunity to connect with both local breweries and historic brewing traditions. \n\n\n\nMark your calendar\, book your ticket\, plan your route through the beer halls\, and embrace the festival atmosphere. Bring your curiosity\, your appetite\, and your beer notebook—because this event is as much about discovering new brews as it is about celebrating a legacy.
URL:https://thirste.com/event/philly-bierfest/
LOCATION:German Society of Pennsylvania\, 611 Spring Garden St\, Philadelphia\, Pennsylvania\, 19123
CATEGORIES:Beer
ATTACH;FMTTYPE=image/jpeg:https://thirste.com/wp-content/uploads/2023/10/bierfest-logo.jpg
END:VEVENT
BEGIN:VEVENT
DTSTART;TZID=America/Anchorage:20260228T130000
DTEND;TZID=America/Anchorage:20260228T160000
DTSTAMP:20260422T000440
CREATED:20260129T192548Z
LAST-MODIFIED:20260129T192548Z
UID:4339-1772283600-1772294400@thirste.com
SUMMARY:Philly Beer Fest
DESCRIPTION:Beer Events\n\n\n\nPhilly Beer Fest\n\n\n\nSet in the vibrant and historic city of Philadelphia\, Philly Beer Fest offers an unforgettable experience filled with great brews\, good company\, and plenty of fun. \n\n\n\n\n\n\n\nA Celebration of Craft Beer\n\n\n\n2026\n\n\n\n\n\nBeer lovers\, get ready to celebrate one of the most exciting beer events in the country—Philly Beer Fest! Known as a premier destination for craft beer enthusiasts\, this annual festival is a highlight on the calendar of beer aficionados everywhere. \n\n\n\n\n\n\n\n\n\n\n\n\n\n\n\n\n\n\n\nWhat to Expect at Philly Beer Fest\n\n\n\nThe Philly Beer Fest is more than just a gathering—it’s a celebration of the booming craft beer scene. Each year\, the event brings together over 75 breweries from around the country\, pouring hundreds of unique and innovative beers. From rich stouts and malty lagers to crisp pale ales and hoppy IPAs\, the festival features an impressive range of styles to suit every palate. \n\n\n\nBeer lovers can expect to sample brews from both established breweries and emerging ones\, with many local Philly brewers on hand to showcase their latest creations. Whether you’re a fan of traditional brewing techniques or looking to try something a bit more experimental\, Philly Beer Fest has something for everyone. \n\n\n\n\n\n\n\n\n\n\n\n\n\n\n\n\n\n\n\n\n\nA Celebration of Local and National Breweries\n\n\n\nPhiladelphia is known for its rich beer culture\, and this festival truly highlights the city’s contributions to the craft beer movement. At the event\, you can sip on beers from local favorites\, alongside national heavyweights. \n\n\n\nBrewers and brewery representatives are present throughout the event\, giving attendees the unique opportunity to meet the faces behind their favorite beers. Want to learn more about the brewing process? Curious about how certain beers get their distinct flavors? The brewers are there to answer your questions\, share their knowledge\, and\, of course\, toast with you. \n\n\n\nMore Than Just Beer\n\n\n\nWhile beer is the star of the show\, the Philly Beer Fest is packed with additional activities to keep the good times rolling. Expect a variety of food vendors offering delicious bites to pair with your brews. Local restaurants and food trucks serve up everything from hearty pub fare to gourmet eats\, making sure no one leaves hungry. \n\n\n\nPhilly Beer Fest is more than just a beer festival—it’s a community celebration that brings together beer lovers\, brewers\, and foodies alike. It’s a chance to explore new flavors\, support the craft beer industry\, and celebrate the artistry that goes into brewing a great beer. Whether you’re a Philly local or traveling from out of town\, this festival is the perfect opportunity to experience the city’s vibrant craft beer culture and sample some of the finest brews from around the country.
URL:https://thirste.com/event/philly-beer-fest/
LOCATION:Missouri
CATEGORIES:Beer
ATTACH;FMTTYPE=image/png:https://thirste.com/wp-content/uploads/2024/10/philly_beer_fest.png
END:VEVENT
END:VCALENDAR