BEGIN:VCALENDAR
VERSION:2.0
PRODID:-//Thirste - ECPv6.15.20//NONSGML v1.0//EN
CALSCALE:GREGORIAN
METHOD:PUBLISH
X-ORIGINAL-URL:https://thirste.com
X-WR-CALDESC:Events for Thirste
REFRESH-INTERVAL;VALUE=DURATION:PT1H
X-Robots-Tag:noindex
X-PUBLISHED-TTL:PT1H
BEGIN:VTIMEZONE
TZID:America/Anchorage
BEGIN:DAYLIGHT
TZOFFSETFROM:-0900
TZOFFSETTO:-0800
TZNAME:AKDT
DTSTART:20250309T110000
END:DAYLIGHT
BEGIN:STANDARD
TZOFFSETFROM:-0800
TZOFFSETTO:-0900
TZNAME:AKST
DTSTART:20251102T100000
END:STANDARD
BEGIN:DAYLIGHT
TZOFFSETFROM:-0900
TZOFFSETTO:-0800
TZNAME:AKDT
DTSTART:20260308T110000
END:DAYLIGHT
BEGIN:STANDARD
TZOFFSETFROM:-0800
TZOFFSETTO:-0900
TZNAME:AKST
DTSTART:20261101T100000
END:STANDARD
BEGIN:DAYLIGHT
TZOFFSETFROM:-0900
TZOFFSETTO:-0800
TZNAME:AKDT
DTSTART:20270314T110000
END:DAYLIGHT
BEGIN:STANDARD
TZOFFSETFROM:-0800
TZOFFSETTO:-0900
TZNAME:AKST
DTSTART:20271107T100000
END:STANDARD
END:VTIMEZONE
BEGIN:VEVENT
DTSTART;TZID=America/Anchorage:20260227T000000
DTEND;TZID=America/Anchorage:20260302T235959
DTSTAMP:20260421T204330
CREATED:20251101T155418Z
LAST-MODIFIED:20251101T155418Z
UID:2602-1772150400-1772495999@thirste.com
SUMMARY:Arizona Cocktail Weekend
DESCRIPTION:Arizona Cocktail Weekend unfurls its splendor across three unforgettable evenings\, transforming Phoenix AZ into a spirited haven for cocktail aficionados. As the premier brands in the industry take center stage\, the city comes alive with a kaleidoscope of events ranging from brand-driven happy hours and parties to enlightening educational seminars adorned with craft cocktails\, camaraderie\, and memories destined to linger. \n\n\n\n2026\n\n\n\n\n\n\n\n\n\nIn the heart of the action are the three crowning jewels of the weekend: Cocktail Carnival\, Top Bars\, and Last Slinger. Cocktail Carnival\, a vibrant fiesta of mixology\, beckoned attendees into a world where creativity knew no bounds. Amidst carnival lights and laughter\, master mixologists showcased their craft\, concocting libations that transcended the ordinary. \n\n\n\nAmidst these signature events\, the best brands in the industry aren’t merely showcasing spirits; they are weaving narratives\, engaging in conversations\, and forging connections with a community that shares a profound appreciation for the art of mixology. Arizona Cocktail Weekend isn’t just an event; it’s a symposium of taste\, an exploration of craft\, and a testament to the vibrant spirit that defines Phoenix’s cocktail scene. \n\n\n\nAcross nearly a week\, attendees are treated to a packed schedule featuring exclusive happy hours\, brand-driven parties\, and an array of educational seminars where industry experts dive deep into the art and science of crafting exceptional cocktails. Each day offers something new\, from hands-on workshops and tasting sessions to dazzling evening events that showcase Phoenix’s rich and innovative cocktail scene. \n\n\n\nWhether you’re a curious newcomer or a seasoned connoisseur\, Arizona Cocktail Weekend is designed to create lasting memories and connections. Enjoy expertly crafted cocktails\, meet the masters behind your favorite brands\, and immerse yourself in the camaraderie of this spirited gathering. It’s a chance to savor\, learn\, and celebrate in the company of fellow cocktail enthusiasts\, all while discovering the dynamic and creative world of mixology that Arizona has to offer.
URL:https://thirste.com/event/arizona-cocktail-weekend/
LOCATION:Phoenix Arizona\, Phoenix\, Arizona\, 85006
CATEGORIES:Cocktail,Cocktail Week
ATTACH;FMTTYPE=image/jpeg:https://thirste.com/wp-content/uploads/2022/01/Araona-Cocktail-Week.jpg
END:VEVENT
BEGIN:VEVENT
DTSTART;TZID=America/Anchorage:20260314T150000
DTEND;TZID=America/Anchorage:20260314T190000
DTSTAMP:20260421T204330
CREATED:20260129T223025Z
LAST-MODIFIED:20260129T223025Z
UID:3319-1773500400-1773514800@thirste.com
SUMMARY:Whiskey Riot - Dallas
DESCRIPTION:2026\n\n\n\nWelcome to Dallas Whiskey Riot: A Festival of Whiskies\, an immersive journey into the expansive world of whiskey right here in Dallas\, Texas. In a city known for its vibrant energy and rich cultural tapestry\, this festival is not just an event; it’s a curated experience designed to demystify\, enlighten\, and celebrate the art of whiskey in the heart of Dallas. \n\n\n\n\n\n\n\n\n\nEnvision yourself sampling from a selection of hundreds of whiskeys\, each with its own unique story\, flavor profile\, and craftsmanship. At Whiskey Riot Dallas\, go beyond the pour\, take part in enriching seminars and join an atmosphere where you can engage in captivating conversations with fellow whiskey enthusiasts\, distillers\, and brand founders. These interactions are more than just exchanges; they’re opportunities to glean insights\, expand your palate\, and build connections with the people behind the spirits. \n\n\n\nThe Whisky Riot Dallas festival is your passport to whiskey expertise right here in Dallas. Whether you’re a seasoned Whiskey Lover\, someone Whiskey Curious looking to explore the nuances\, an enthusiastic Whiskey Aficionado seeking rare finds\, or even a Whiskey Rookie just starting the journey\, Whiskey Riot Dallas caters to all. The spectrum of samplings\, seminars\, and engaging conversations is tailored to arm you with the knowledge and confidence needed to navigate the world of whiskey with flair. \n\n\n\n\n\n\n\n\n\n\n\nWhiskey Riot Dallas isn’t just about education; it’s about creating an unforgettable experience right in the heart of this Texan metropolis. Amidst the tastings and discussions\, you’re bound to have one hell of a time. It’s a celebration\, a gathering of like-minded individuals who share a passion for the golden elixir right here in Dallas. So\, whether you’re here to refine your palate\, discover hidden gems\, or simply revel in the joy of whiskey\, Whiskey Riot Dallas beckons – a festival that transcends the ordinary and embraces the extraordinary in every sip.  \n\n\n\nCheers to an adventure where whiskey is not just a drink; it’s a journey\, and you’re invited to be part of the riot in Dallas.
URL:https://thirste.com/event/whiskey-riot-dallas/
LOCATION:The Tower Building\, 3809 Grand Ave\, Dallas\, Texas\, 75210
CATEGORIES:Whiskey
ATTACH;FMTTYPE=image/png:https://thirste.com/wp-content/uploads/2023/12/whiskey_riot_logo.png
END:VEVENT
BEGIN:VEVENT
DTSTART;TZID=America/Anchorage:20260318T000000
DTEND;TZID=America/Anchorage:20260322T235959
DTSTAMP:20260421T204330
CREATED:20260129T222810Z
LAST-MODIFIED:20260129T222810Z
UID:1339-1773792000-1774223999@thirste.com
SUMMARY:New Orleans Bourbon Festival
DESCRIPTION:New Orleans Bourbon Festival\n\n\n\nThe New Orleans Bourbon Festival is a multi day event\, and like other festivals in New Orleans\, it’s a non stop party. Sample bourbons from the best distilleries in the world\, along with whiskey inspired cuisine and jazz music to set the scene of an early 20th century speakeasy. \n\n\n\nThe finest New Orleans restaurants working with distilleries to bring an amazing festival to life. Providing the most experienced and relevant speakers surrounded by the charm and culture of New Orleans. \n\n\n\nCelebrate bourbon\, indulge in New Orleans’ culinary delights\, and enjoy the warm hospitality that makes this city so special. The New Orleans Bourbon Festival is a toast to everything we love about bourbon and the culture that surrounds it. \n\n\n\n2026\n\n\n\n\n\n\n\n\n\n\n\n\n\n\n\n\n\n\n\n\n\nSavor the Spirit\n\n\n\nWhen it comes to bourbon and Southern hospitality\, no event brings the two together quite like the New Orleans Bourbon Festival. Held annually in the heart of the Crescent City\, this festival is a celebration of America’s native spirit and the vibrant culture of New Orleans. Whether you’re a seasoned bourbon connoisseur or just beginning your journey into the world of whiskey\, the New Orleans Bourbon Festival offers an experience like no other. \n\n\n\nWhat is the New Orleans Bourbon Festival?\n\n\n\nThe New Orleans Bourbon Festival is a multi-day event that celebrates bourbon\, food\, and culture. Taking place in one of the world’s most iconic cities\, the festival brings together bourbon enthusiasts\, master distillers\, brand ambassadors\, and chefs for an unforgettable experience. \n\n\n\nAttendees can expect a full lineup of tastings\, educational seminars\, entertainment\, and mouthwatering cuisine\, all set against the backdrop of New Orleans’ rich cultural heritage. This isn’t just about bourbon—it’s about celebrating the craftsmanship\, stories\, and community that surround it. \n\n\n\nHighlights of the Festival\n\n\n\n\n\n\n\nGrand Tasting\n\n\n\nThe heart of the festival is its grand tasting events\, where attendees have the chance to sample some of the finest bourbons and whiskeys available. Dozens of distilleries from across the country showcase their products\, offering rare pours\, new releases\, and classic favorites. \n\n\n\nEducational Seminars\n\n\n\nWhether you’re a bourbon novice or a seasoned expert\, the festival’s educational seminars are a must. Led by master distillers\, bourbon historians\, and industry experts\, these sessions dive deep into topics such as bourbon production\, aging techniques\, tasting notes\, and cocktail crafting. \n\n\n\nBourbon & Culinary Pairings\n\n\n\nNew Orleans is known for its incredible cuisine\, and the Bourbon Festival doesn’t disappoint. From small bites to full meals\, the festival highlights how bourbon can elevate Southern flavors. Attendees can enjoy expertly curated bourbon and food pairings prepared by some of the city’s top chefs. \n\n\n\nMeet the Masters\n\n\n\nOne of the most exciting aspects of the festival is the opportunity to meet the faces behind the bottles. Attendees can interact with master distillers\, brand ambassadors\, and other key players in the bourbon industry\, hearing firsthand about their craft and passion for bourbon. \n\n\n\n\n\n\n\n\n\n\n\n\n\n\n\n\n\n\n\n\n\nReady to raise a glass? The New Orleans Bourbon Festival typically takes place in the spring\, offering attendees the perfect opportunity to enjoy the city’s beautiful weather. Be sure to grab your tickets early—this popular event sells out quickly. \n\n\n\n\n\nThe New Orleans Bourbon Festival is more than just a tasting event—it’s a chance to immerse yourself in the world of bourbon while experiencing the unique magic of New Orleans. From the vibrant atmosphere to the educational opportunities\, this festival offers something for everyone. \n\n\n\nWhether you’re there to discover new bourbons\, meet like-minded enthusiasts\, or simply enjoy the food and music\, the New Orleans Bourbon Festival is a one-of-a-kind experience that captures the spirit of both bourbon and the Big Easy.
URL:https://thirste.com/event/new-orleans-bourbon-festival/
LOCATION:Missouri
CATEGORIES:Whiskey
ATTACH;FMTTYPE=image/png:https://thirste.com/wp-content/uploads/2023/02/NOBF.png
END:VEVENT
BEGIN:VEVENT
DTSTART;TZID=America/Anchorage:20260321T130000
DTEND;TZID=America/Anchorage:20260322T173000
DTSTAMP:20260421T204330
CREATED:20260129T214516Z
LAST-MODIFIED:20260129T214639Z
UID:1372-1774098000-1774200600@thirste.com
SUMMARY:Taste Washington
DESCRIPTION:  \n\n\n\n\n2026\n\n\n\nThere is no better place to experience Washington State Wine than at Taste Washington. This event has grown over the past 24 years to be the largest single-region wine event of its kind in the nation. Attendees can partake in various activities and events over multiple days every spring. Featuring educational seminars with national personalities\, intimate wine and food events with celebrity chefs\, and culminating with the Grand Tastings featuring hundreds of wineries. \n\n\n\nTaste Washington gives everyone a chance to learn\, taste\, and explore why Washington has taken a prominent place on the world wine stage. And to make matters more delicious\, you get to pair Washington wine with great Washington dining. \n\n\n\nJoin us to taste and sip your way through Washington.
URL:https://thirste.com/event/taste-washington/
LOCATION:Seattle\, Seattle\, WA\, 98109\, United States
CATEGORIES:Seattle,Wine
ATTACH;FMTTYPE=image/png:https://thirste.com/wp-content/uploads/2023/02/taste-washington.png
END:VEVENT
BEGIN:VEVENT
DTSTART;TZID=America/Anchorage:20260323T000000
DTEND;TZID=America/Anchorage:20260325T235959
DTSTAMP:20260421T204330
CREATED:20260129T223518Z
LAST-MODIFIED:20260129T223534Z
UID:2656-1774224000-1774483199@thirste.com
SUMMARY:Bar and Restaurant Expo
DESCRIPTION:2026\n\n\n\n\n\nThe Bar & Restaurant Expo has been carefully designed to specifically address the unique difficulties that the industry faces\, offering a forum where practical solutions and ground-breaking concepts collide to reveal untapped revenue-generating opportunities. \n\n\n\n\n\n\n\nThis is your time to take advantage of an abundance of priceless insights that have been carefully crafted to point you in the direction of financial success. Learn the nuances of menu architecture and the science of optimal pricing to achieve the perfect balance between enticing customers and maximizing revenues. Transform routine duties into the cornerstone of financial prosperity by navigating the landscape of efficient cost control and inventory management. \n\n\n\nPreviously known as the Nightclub and Bar Show\, This annual event started back in 2016.
URL:https://thirste.com/event/bar-and-restaurant-expo/
LOCATION:Las Vegas Convention Center\, Convention Center Drive\, Las Vegas\, Nevada\, 89109
CATEGORIES:Industry Exclusive
ATTACH;FMTTYPE=image/jpeg:https://thirste.com/wp-content/uploads/2023/08/bar_restaurant_expo_logo_h-746x500-1-e1692222315126.jpg
END:VEVENT
END:VCALENDAR